BEGIN:VCALENDAR
VERSION:2.0
PRODID:-//Palace Bar Gay | LGBTQ+ Club, Drag Brunch &amp; Shows - South Florida, FL - ECPv6.2.9//NONSGML v1.0//EN
CALSCALE:GREGORIAN
METHOD:PUBLISH
X-WR-CALNAME:Palace Bar Gay | LGBTQ+ Club, Drag Brunch &amp; Shows - South Florida, FL
X-ORIGINAL-URL:https://palacesouthbeach.com
X-WR-CALDESC:Events for Palace Bar Gay | LGBTQ+ Club, Drag Brunch &amp; Shows - South Florida, FL
REFRESH-INTERVAL;VALUE=DURATION:PT1H
X-Robots-Tag:noindex
X-PUBLISHED-TTL:PT1H
BEGIN:VTIMEZONE
TZID:America/New_York
BEGIN:DAYLIGHT
TZOFFSETFROM:-0500
TZOFFSETTO:-0400
TZNAME:EDT
DTSTART:20250309T070000
END:DAYLIGHT
BEGIN:STANDARD
TZOFFSETFROM:-0400
TZOFFSETTO:-0500
TZNAME:EST
DTSTART:20251102T060000
END:STANDARD
END:VTIMEZONE
BEGIN:VEVENT
DTSTART;TZID=America/New_York:20251003T110000
DTEND;TZID=America/New_York:20251004T160000
DTSTAMP:20260425T035402
CREATED:20250924T131410Z
LAST-MODIFIED:20250924T131410Z
UID:23212-1759489200-1759593600@palacesouthbeach.com
SUMMARY:Too Wong Foo Weekend – October 3 & 4 at Palace South Beach Miami
DESCRIPTION:Get ready for wigs\, wheels\, and wonder as Palace South Beach Miami celebrates one of the most iconic drag films of all time with a two-day tribute: Too Wong Foo Weekend\, happening October 3 and 4. \nJoin the Ladies of the Palace as they transform into the legendary queens of To Wong Foo\, Thanks for Everything! Julie Newmar—bringing the characters of Vida\, Noxeema\, and Chi-Chi to life in full drag fantasy during two unforgettable brunch performances. \nThursday\, October 3 – Cast 1: \n\n\nCc Glitzer as Vida \n\n\nBonnie Builder as Noxeema \n\n\nKalah Mendoza as Chi-Chi \n\n\nFriday\, October 4 – Cast 2: \n\n\nKat Wilderness as Vida \n\n\nTiffany Fantasia as Noxeema \n\n\nDayanara as Chi-Chi \n\n\nExpect over-the-top costumes\, heartfelt performances\, and nostalgic nods to the film that made drag a household name. Whether you’re a die-hard fan or new to the magic\, this tribute will have you living for every lip-sync and laugh. \nCelebrate Too Wong Foo Weekend only at Palace South Beach\, the heart of Miami Beach’s LGBTQ+ entertainment scene.
URL:https://palacesouthbeach.com/event/too-wong-foo-weekend-october-3-4-at-palace-south-beach-miami/
ATTACH;FMTTYPE=image/jpeg:https://palacesouthbeach.com/wp-content/uploads/2025/09/Too-Wong-Foo-Weekend-2-2.jpeg
END:VEVENT
END:VCALENDAR