BEGIN:VCALENDAR
VERSION:2.0
PRODID:-//Palace Bar Gay | LGBTQ+ Club, Drag Brunch &amp; Shows - South Florida, FL - ECPv6.2.9//NONSGML v1.0//EN
CALSCALE:GREGORIAN
METHOD:PUBLISH
X-ORIGINAL-URL:https://palacesouthbeach.com
X-WR-CALDESC:Events for Palace Bar Gay | LGBTQ+ Club, Drag Brunch &amp; Shows - South Florida, FL
REFRESH-INTERVAL;VALUE=DURATION:PT1H
X-Robots-Tag:noindex
X-PUBLISHED-TTL:PT1H
BEGIN:VTIMEZONE
TZID:America/Halifax
BEGIN:DAYLIGHT
TZOFFSETFROM:-0400
TZOFFSETTO:-0300
TZNAME:ADT
DTSTART:20260308T060000
END:DAYLIGHT
BEGIN:STANDARD
TZOFFSETFROM:-0300
TZOFFSETTO:-0400
TZNAME:AST
DTSTART:20261101T050000
END:STANDARD
END:VTIMEZONE
BEGIN:VEVENT
DTSTART;TZID=America/Halifax:20260430T190000
DTEND;TZID=America/Halifax:20260430T235900
DTSTAMP:20260425T101753
CREATED:20260220T141038Z
LAST-MODIFIED:20260220T141038Z
UID:23534-1777575600-1777593540@palacesouthbeach.com
SUMMARY:Café Con Leche Thursdays | Latin Drag Night in Miami | Palace South Beach
DESCRIPTION:Spice up your week at Café Con Leche Thursdays\, the ultimate Latin drag night in Miami\, happening every Thursday from 7PM to 12AM at Palace South Beach Miami. \nHosted by the fierce and unforgettable Poizon Ivy Lords\, this weekly celebration blends Latin rhythms\, bold performances\, and high-energy glamour from the iconic Palace Divas. From reggaeton to salsa\, throwbacks to today’s hits\, Café Con Leche delivers nonstop entertainment in the heart of Miami Beach. \nExpect powerhouse lip-syncs\, vibrant costumes\, audience interaction\, and the signature Palace energy that has made it a staple in Miami’s LGBTQ+ nightlife scene. Whether you’re a local or visiting South Beach\, Thursday nights belong at Palace. \nBecause nothing hits like drag with a little extra flavor.
URL:https://palacesouthbeach.com/event/cafe-con-leche-thursdays-latin-drag-night-in-miami-palace-south-beach/
END:VEVENT
BEGIN:VEVENT
DTSTART;TZID=America/Halifax:20260501T110000
DTEND;TZID=America/Halifax:20260501T160000
DTSTAMP:20260425T101753
CREATED:20260221T185313Z
LAST-MODIFIED:20260221T185313Z
UID:23665-1777633200-1777651200@palacesouthbeach.com
SUMMARY:The Real Drag Brunch of Miami | Friday Drag Brunch | Palace South Beach
DESCRIPTION:There’s drag brunch… and then there’s The Real Drag Brunch of Miami. Join us every Friday at 11AM and 2PM at Palace South Beach Miami for the most iconic Friday drag brunch experience in Miami Beach. \nHosted by the legendary Tiffany Fantasia\, this high-energy brunch spectacular features show-stopping performances from the glamorous Palace Divas. Expect fierce lip-syncs\, dazzling costumes\, audience interaction\, and nonstop entertainment right on Ocean Drive in the heart of South Beach. \nWhether you’re celebrating a birthday\, planning a bachelorette party\, visiting Miami\, or simply looking for the best Friday drag brunch in Miami\, Palace South Beach delivers unforgettable vibes\, delicious brunch favorites\, and the ultimate LGBTQ+ celebration. \nIf you’re searching for Drag Brunch Miami\, this is the one everyone talks about.
URL:https://palacesouthbeach.com/event/the-real-drag-brunch-of-miami-friday-drag-brunch-palace-south-beach-10/
ATTACH;FMTTYPE=image/jpeg:https://palacesouthbeach.com/wp-content/uploads/2026/02/Weekly-Flyers-15-Friday-Brunch-1.jpeg
END:VEVENT
BEGIN:VEVENT
DTSTART;TZID=America/Halifax:20260501T190000
DTEND;TZID=America/Halifax:20260501T235900
DTSTAMP:20260425T101753
CREATED:20260220T143959Z
LAST-MODIFIED:20260220T143959Z
UID:23554-1777662000-1777679940@palacesouthbeach.com
SUMMARY:Drag Madness Fridays | Friday Night Drag Show in Miami | Palace South Beach
DESCRIPTION:Friday nights in Miami just hit different at Drag Madness Fridays\, happening every week from 7PM to 12AM at Palace South Beach Miami. \nHosted by the iconic CC Glitzer\, this high-energy Friday night drag show features show-stopping performances by the legendary Palace Divas. From fierce lip-sync battles to glamorous costume reveals and crowd-interaction moments\, Drag Madness Fridays delivers the bold\, unapologetic entertainment that defines Miami Beach nightlife. \nWhether you’re kicking off your weekend in South Beach or looking for the ultimate LGBTQ+ Friday night experience in Miami\, Palace South Beach brings the drama\, the glam\, and the madness every single week. \nStart your weekend the Palace way.
URL:https://palacesouthbeach.com/event/drag-madness-fridays-friday-night-drag-show-in-miami-palace-south-beach-10/
ATTACH;FMTTYPE=image/jpeg:https://palacesouthbeach.com/wp-content/uploads/2026/02/Weekly-Flyers-14-Drag-Madness-Fridays-1.jpeg
END:VEVENT
BEGIN:VEVENT
DTSTART;TZID=America/Halifax:20260501T200000
DTEND;TZID=America/Halifax:20260501T235900
DTSTAMP:20260425T101753
CREATED:20260422T174232Z
LAST-MODIFIED:20260422T174232Z
UID:23985-1777665600-1777679940@palacesouthbeach.com
SUMMARY:🌸 Full Moon Party – Flower Moon Edition | May 1
DESCRIPTION:Flower Moon Full Moon Party | May 1 | Palace South Beach Miami Rooftop\nCelebrate the beauty of spring under the glow of the Flower Moon at our signature Full Moon Party\, happening May 1 from 8PM to 12AM at the Palace South Beach Miami Rooftop Pool Bar. \nThis vibrant rooftop pool party features music by DJ Mike Trotter\, setting the tone for a night filled with rhythm\, energy\, and unforgettable Miami Beach vibes. Surrounded by the lights of South Beach and the magic of the full moon\, guests can dance\, sip\, and soak in the atmosphere high above Ocean Drive. \nEnjoy $9 Herradura cocktails all night long while you take in the open-air experience\, blending music\, nightlife\, and the natural beauty of the Flower Moon. Whether you’re a local or visiting Miami Beach\, this is the perfect way to welcome May in style. \nEvent Details:\nEvent: Full Moon Party – Flower Moon EditionDate: May 1Time: 8PM – 12AMLocation: Palace Rooftop Pool BarVenue: Palace South BeachAddress: 1052 Ocean Drive\, Miami Beach\, FLMusic: DJ Mike TrotterSpecial: $9 Herradura Cocktails
URL:https://palacesouthbeach.com/event/%f0%9f%8c%b8-full-moon-party-flower-moon-edition-may-1/
CATEGORIES:Pool Party
ATTACH;FMTTYPE=image/png:https://palacesouthbeach.com/wp-content/uploads/2026/04/Full-Moon-3-Beaver-Moon-Full-Moon-Party-1.png
END:VEVENT
BEGIN:VEVENT
DTSTART;TZID=America/Halifax:20260502T110000
DTEND;TZID=America/Halifax:20260502T160000
DTSTAMP:20260425T101753
CREATED:20260221T174306Z
LAST-MODIFIED:20260221T174306Z
UID:23579-1777719600-1777737600@palacesouthbeach.com
SUMMARY:Bubbly & Beauties Drag Brunch | Saturday Drag Brunch in Miami | Palace South Beach
DESCRIPTION:Pop the cork and strike a pose at Bubbly & Beauties\, the ultimate Saturday drag brunch in Miami\, happening every week at 11AM and 2PM at Palace South Beach Miami. \nHosted by the glamorous Missy Meyaki Lepaige\, this high-energy brunch experience features dazzling performances by the iconic Palace Divas\, delivering fierce looks\, powerhouse lip-syncs\, and nonstop entertainment right on Ocean Drive in Miami Beach. \nExpect bottomless vibes\, brunch favorites\, crowd interaction\, and the vibrant energy that has made Palace South Beach a legendary LGBTQ+ destination for over three decades. Whether you’re celebrating a birthday\, bachelorette\, vacation\, or just your fabulous self\, Saturday brunch at Palace is a Miami must. \nBecause Saturdays deserve sparkle.
URL:https://palacesouthbeach.com/event/bubbly-beauties-drag-brunch-saturday-drag-brunch-in-miami-palace-south-beach-10/
ATTACH;FMTTYPE=image/jpeg:https://palacesouthbeach.com/wp-content/uploads/2026/02/Weekly-Flyers-26-Saturday-Brunch-1.jpeg
END:VEVENT
BEGIN:VEVENT
DTSTART;TZID=America/Halifax:20260502T110000
DTEND;TZID=America/Halifax:20260502T160000
DTSTAMP:20260425T101753
CREATED:20260221T193350Z
LAST-MODIFIED:20260221T193350Z
UID:23686-1777719600-1777737600@palacesouthbeach.com
SUMMARY:The Real Drag Brunch of Miami | Saturday Drag Brunch | Palace South Beach
DESCRIPTION:Searching for the best Saturday drag brunch in Miami? Welcome to The Real Drag Brunch of Miami\, happening every Saturday at 11AM and 2PM at Palace South Beach Miami. \nHosted by the glamorous Missy Meyaki Lepaige\, this iconic brunch experience features high-energy performances by the sensational Palace Divas\, delivering unforgettable lip-syncs\, dazzling costumes\, and nonstop audience interaction in the heart of Miami Beach. \nLocated directly on Ocean Drive\, Palace South Beach is the premier destination for Drag Brunch Miami. Whether you’re celebrating a birthday\, planning a bachelorette party\, hosting a girls’ trip\, or just looking for an unforgettable weekend in South Beach\, this is the brunch everyone is talking about. \nIf you’re Googling “Drag Brunch Miami Saturday\,” you’ve already found the answer.
URL:https://palacesouthbeach.com/event/the-real-drag-brunch-of-miami-saturday-drag-brunch-palace-south-beach-10/
ATTACH;FMTTYPE=image/jpeg:https://palacesouthbeach.com/wp-content/uploads/2026/02/Weekly-Flyers-32-Saturday-Brunch-2.jpeg
END:VEVENT
BEGIN:VEVENT
DTSTART;TZID=America/Halifax:20260503T110000
DTEND;TZID=America/Halifax:20260503T160000
DTSTAMP:20260425T101753
CREATED:20260221T195133Z
LAST-MODIFIED:20260221T195133Z
UID:23707-1777806000-1777824000@palacesouthbeach.com
SUMMARY:The Real Drag Brunch of Miami | Sunday Drag Brunch | Palace South Beach
DESCRIPTION:End your weekend the fabulous way at The Real Drag Brunch of Miami\, happening every Sunday at 11AM and 2PM at Palace South Beach Miami. \nHosted by the legendary Tiffany Fantasia\, this high-energy Sunday drag brunch features unforgettable performances by the iconic Palace Divas\, serving glamour\, comedy\, fierce lip-sync battles\, and nonstop entertainment in the heart of Miami Beach. \nLocated directly on Ocean Drive\, Palace South Beach is the ultimate destination for Drag Brunch Miami. Whether you’re wrapping up a girls’ trip\, celebrating a birthday\, planning a bachelorette party\, or simply looking for the best Sunday brunch in Miami with live entertainment\, this is where the weekend reaches its grand finale. \nIf you’re searching for Sunday Drag Brunch in Miami\, you’ve found the real one.
URL:https://palacesouthbeach.com/event/the-real-drag-brunch-of-miami-sunday-drag-brunch-palace-south-beach-10/
ATTACH;FMTTYPE=image/jpeg:https://palacesouthbeach.com/wp-content/uploads/2026/02/Weekly-Flyers-31-Sunday-Brunch-1.jpeg
END:VEVENT
END:VCALENDAR