BEGIN:VCALENDAR
VERSION:2.0
PRODID:-//Palace Bar Gay | LGBTQ+ Club, Drag Brunch &amp; Shows - South Florida, FL - ECPv6.2.9//NONSGML v1.0//EN
CALSCALE:GREGORIAN
METHOD:PUBLISH
X-ORIGINAL-URL:https://palacesouthbeach.com
X-WR-CALDESC:Events for Palace Bar Gay | LGBTQ+ Club, Drag Brunch &amp; Shows - South Florida, FL
REFRESH-INTERVAL;VALUE=DURATION:PT1H
X-Robots-Tag:noindex
X-PUBLISHED-TTL:PT1H
BEGIN:VTIMEZONE
TZID:America/Halifax
BEGIN:DAYLIGHT
TZOFFSETFROM:-0400
TZOFFSETTO:-0300
TZNAME:ADT
DTSTART:20260308T060000
END:DAYLIGHT
BEGIN:STANDARD
TZOFFSETFROM:-0300
TZOFFSETTO:-0400
TZNAME:AST
DTSTART:20261101T050000
END:STANDARD
END:VTIMEZONE
BEGIN:VEVENT
DTSTART;TZID=America/Halifax:20260301T220000
DTEND;TZID=America/Halifax:20260301T235900
DTSTAMP:20260424T100844
CREATED:20260218T180329Z
LAST-MODIFIED:20260218T180456Z
UID:23457-1772402400-1772409540@palacesouthbeach.com
SUMMARY:AURÉA Rooftop Pool Party | March 1 | Palace South Beach Miami
DESCRIPTION:Step into golden-hour glory at AURÉA Rooftop Pool Party\, happening Sunday\, March 1 from 2PM to 10PM at the iconic Palace South Beach Miami Rooftop Pool Bar. \nWith the tagline “Where Day Turns Legendary\,” AURÉA blends sun-drenched vibes with elevated sound\, transforming your Sunday into a full-day rooftop escape in the heart of Miami Beach. Headlining the experience is DJ Juka\, delivering high-energy beats as the sun dips into the horizon. Setting the tone from the start is DJ JRNY\, warming up the rooftop with deep grooves and daytime heat. \nExpect poolside cocktails\, vibrant energy\, and panoramic South Beach views as day transitions into a glowing Miami sunset. Whether you’re lounging poolside or dancing under the sky\, Palace South Beach is where legendary moments are made. \nEvent Highlights:\n\n\n🗓 March 1 \n\n\n⏰ 2PM–10PM \n\n\n🎧 Headliner: DJ Juka \n\n\n🎶 Opening Set: DJ JRNY \n\n\n🌊 Rooftop Pool Bar at Palace South Beach \n\n\n🌅 Sunset vibes in the heart of Miami Beach
URL:https://palacesouthbeach.com/event/aurea-rooftop-pool-party-march-1-palace-south-beach-miami/
CATEGORIES:Guest Performance,Music Event,Pool Party
ATTACH;FMTTYPE=image/jpeg:https://palacesouthbeach.com/wp-content/uploads/2026/02/Untitled-2-Juka-1.jpeg
END:VEVENT
BEGIN:VEVENT
DTSTART;TZID=America/Halifax:20260321T210000
DTEND;TZID=America/Halifax:20260322T020000
DTSTAMP:20260424T100844
CREATED:20260311T141850Z
LAST-MODIFIED:20260311T141947Z
UID:23784-1774126800-1774144800@palacesouthbeach.com
SUMMARY:Sunset Sapphics | Queer Women Rooftop Pool Party | Palace South Beach Miami
DESCRIPTION:Celebrate community\, connection\, and nightlife at Sunset Sapphics\, a vibrant rooftop pool party for queer women in Miami\, happening March 21 from 9PM to 2AM at the Palace Rooftop Pool Bar at Palace South Beach Miami. \nHosted by The Tates\, this exciting evening brings together queer women and allies for an unforgettable night overlooking the lights of Miami Beach. The party features music by DJ Sammii Blendz\, delivering high-energy beats as guests dance poolside under the Miami night sky. \nWith breathtaking views of Miami Beach\, signature cocktails\, and a lively crowd\, Sunset Sapphics creates a welcoming space where women can celebrate identity\, pride\, and nightlife together. The event is proudly sponsored by Wet For Her\, supporting inclusive spaces for queer communities. \nFor more details or inquiries\, contact contact@teamtates.com. \nWhether you’re visiting South Beach or part of the local LGBTQ+ community\, Sunset Sapphics at Palace South Beach Miami promises an unforgettable rooftop celebration. \n\nEvent Details:\nDate: March 21Time: 9PM – 2AMLocation: Palace Rooftop Pool BarVenue: Palace South BeachAddress: 1052 Ocean Drive\, Miami Beach\, FLHosted by: The TatesMusic: DJ Sammii BlendzSponsor: Wet For HerContact: contact@teamtates.com
URL:https://palacesouthbeach.com/event/sunset-sapphics-queer-women-rooftop-pool-party-palace-south-beach-miami/
CATEGORIES:Pool Party
ATTACH;FMTTYPE=image/jpeg:https://palacesouthbeach.com/wp-content/uploads/2026/03/Sunset-Sapphics-2-1.jpeg
END:VEVENT
BEGIN:VEVENT
DTSTART;TZID=America/Halifax:20260401T200000
DTEND;TZID=America/Halifax:20260401T235900
DTSTAMP:20260424T100844
CREATED:20260325T180841Z
LAST-MODIFIED:20260325T180841Z
UID:23912-1775073600-1775087940@palacesouthbeach.com
SUMMARY:Pink Moon Full Moon Party | April 1 | Palace South Beach Miami Rooftop
DESCRIPTION:Welcome April under the glow of the Pink Moon at our signature Full Moon Party\, happening April 1 from 8PM to 12AM at the Palace South Beach Miami Rooftop Pool Bar. \nThis open-air rooftop celebration features music by TheCortes and live percussion by Hussein Abdala\, creating an immersive soundscape of rhythm\, energy\, and connection beneath the Miami night sky. Inspired by the seasonal bloom of the Pink Moon\, this event blends nature\, nightlife\, and the vibrant spirit of Miami Beach into one unforgettable experience. \nWith poolside vibes\, handcrafted cocktails\, and sweeping views of Ocean Drive\, Palace transforms into a moonlit escape where guests can dance\, unwind\, and celebrate the start of a new season. \nWhether you’re a local or visiting Miami Beach\, this Full Moon Party at Palace South Beach Miami is the perfect way to welcome April in style. \n\nEvent Details:\nEvent: Full Moon Party – Pink Moon EditionDate: April 1Time: 8PM – 12AMLocation: Palace Rooftop Pool BarVenue: Palace South BeachAddress: 1052 Ocean Drive\, Miami Beach\, FLMusic: TheCortesPercussion: Hussein Abdala
URL:https://palacesouthbeach.com/event/pink-moon-full-moon-party-april-1-palace-south-beach-miami-rooftop/
CATEGORIES:Pool Party
ATTACH;FMTTYPE=image/jpeg:https://palacesouthbeach.com/wp-content/uploads/2026/03/Full-Moon-2-Beaver-Moon-Full-Moon-Party-2.jpeg
END:VEVENT
BEGIN:VEVENT
DTSTART;TZID=America/Halifax:20260425T200000
DTEND;TZID=America/Halifax:20260425T230000
DTSTAMP:20260424T100844
CREATED:20260422T175135Z
LAST-MODIFIED:20260422T175135Z
UID:23988-1777147200-1777158000@palacesouthbeach.com
SUMMARY:💦 That Time of The Month Pool Party |  “Girls\, Vibes & Bad Decisions”
DESCRIPTION:That Time of The Month Pool Party | April 25 | Palace South Beach Miami\nGet ready for a night of Girls\, Vibes & Bad Decisions at That Time of The Month Pool Party\, taking over the Palace Rooftop Pool Bar at Palace South Beach Miami on April 25. \nHosted by The Tates\, this high-energy rooftop experience brings together an electric crowd\, unforgettable music\, and a vibe that speaks for itself. Expect high-energy DJs & surprises\, creating the perfect soundtrack for a night of dancing\, connection\, and rooftop energy in the heart of Miami Beach. \nFrom poolside moments to late-night energy\, the night is packed with contests\, prizes\, and exclusive giveaways\, making every moment feel elevated and unpredictable. With the iconic Ocean Drive backdrop\, cocktails flowing\, and the city lights surrounding you\, this is one rooftop party you don’t want to miss. \nWhether you’re coming for the music\, the crowd\, or the energy—this is where it all comes together. \nEvent Details:\nEvent: That Time of The Month Pool PartyDate: April 25Location: Palace Rooftop Pool BarVenue: Palace South BeachAddress: 1052 Ocean Drive\, Miami Beach\, FLHosted by: The TatesHighlights: High-Energy DJs & Surprises\, Contests\, Prizes & Exclusive GiveawaysTagline: Girls\, Vibes & Bad Decisions
URL:https://palacesouthbeach.com/event/%f0%9f%92%a6-that-time-of-the-month-pool-party-girls-vibes-bad-decisions/
CATEGORIES:Pool Party
ATTACH;FMTTYPE=image/png:https://palacesouthbeach.com/wp-content/uploads/2026/04/Sunset-Sapphics-2.0-1-2-1.png
END:VEVENT
BEGIN:VEVENT
DTSTART;TZID=America/Halifax:20260501T200000
DTEND;TZID=America/Halifax:20260501T235900
DTSTAMP:20260424T100844
CREATED:20260422T174232Z
LAST-MODIFIED:20260422T174232Z
UID:23985-1777665600-1777679940@palacesouthbeach.com
SUMMARY:🌸 Full Moon Party – Flower Moon Edition | May 1
DESCRIPTION:Flower Moon Full Moon Party | May 1 | Palace South Beach Miami Rooftop\nCelebrate the beauty of spring under the glow of the Flower Moon at our signature Full Moon Party\, happening May 1 from 8PM to 12AM at the Palace South Beach Miami Rooftop Pool Bar. \nThis vibrant rooftop pool party features music by DJ Mike Trotter\, setting the tone for a night filled with rhythm\, energy\, and unforgettable Miami Beach vibes. Surrounded by the lights of South Beach and the magic of the full moon\, guests can dance\, sip\, and soak in the atmosphere high above Ocean Drive. \nEnjoy $9 Herradura cocktails all night long while you take in the open-air experience\, blending music\, nightlife\, and the natural beauty of the Flower Moon. Whether you’re a local or visiting Miami Beach\, this is the perfect way to welcome May in style. \nEvent Details:\nEvent: Full Moon Party – Flower Moon EditionDate: May 1Time: 8PM – 12AMLocation: Palace Rooftop Pool BarVenue: Palace South BeachAddress: 1052 Ocean Drive\, Miami Beach\, FLMusic: DJ Mike TrotterSpecial: $9 Herradura Cocktails
URL:https://palacesouthbeach.com/event/%f0%9f%8c%b8-full-moon-party-flower-moon-edition-may-1/
CATEGORIES:Pool Party
ATTACH;FMTTYPE=image/png:https://palacesouthbeach.com/wp-content/uploads/2026/04/Full-Moon-3-Beaver-Moon-Full-Moon-Party-1.png
END:VEVENT
END:VCALENDAR