BEGIN:VCALENDAR
VERSION:2.0
PRODID:-//Palace Bar Gay | LGBTQ+ Club, Drag Brunch &amp; Shows - South Florida, FL - ECPv6.2.9//NONSGML v1.0//EN
CALSCALE:GREGORIAN
METHOD:PUBLISH
X-ORIGINAL-URL:https://palacesouthbeach.com
X-WR-CALDESC:Events for Palace Bar Gay | LGBTQ+ Club, Drag Brunch &amp; Shows - South Florida, FL
REFRESH-INTERVAL;VALUE=DURATION:PT1H
X-Robots-Tag:noindex
X-PUBLISHED-TTL:PT1H
BEGIN:VTIMEZONE
TZID:America/New_York
BEGIN:DAYLIGHT
TZOFFSETFROM:-0500
TZOFFSETTO:-0400
TZNAME:EDT
DTSTART:20260308T070000
END:DAYLIGHT
BEGIN:STANDARD
TZOFFSETFROM:-0400
TZOFFSETTO:-0500
TZNAME:EST
DTSTART:20261101T060000
END:STANDARD
END:VTIMEZONE
BEGIN:VEVENT
DTSTART;TZID=America/New_York:20260201T200000
DTEND;TZID=America/New_York:20260201T235900
DTSTAMP:20260423T025150
CREATED:20260122T194711Z
LAST-MODIFIED:20260122T194711Z
UID:23409-1769976000-1769990340@palacesouthbeach.com
SUMMARY:Snow Moon Full Moon Party | February 1 | Palace South Beach Rooftop Pool Bar
DESCRIPTION:Chill out under the stars at the Snow Moon Full Moon Party\, happening Saturday\, February 1 from 8PM to 12AM at the Palace South Beach rooftop pool bar. \nThis open-air winter-inspired celebration features deep beats by TheCortes and live percussion by Hussein Abdala\, creating a rhythmic journey under the glow of the Snow Moon. Expect rooftop vibes\, curated cocktails\, and the energy only Palace can deliver. \nSurrounded by snowflakes\, moonlight\, and Miami’s signature warmth\, this full moon event brings the magic of winter to the rooftop—no parka required. Dive in\, dance out\, and start your February under the full moon in full Palace style.
URL:https://palacesouthbeach.com/event/snow-moon-full-moon-party-february-1-palace-south-beach-rooftop-pool-bar/
CATEGORIES:Pool Party
ATTACH;FMTTYPE=image/jpeg:https://palacesouthbeach.com/wp-content/uploads/2026/01/Full-Moon-Party-3.0-3-Beaver-Moon-Full-Moon-Party-1.jpeg
END:VEVENT
END:VCALENDAR