BEGIN:VCALENDAR
VERSION:2.0
PRODID:-//Palace Bar Gay | LGBTQ+ Club, Drag Brunch &amp; Shows - South Florida, FL - ECPv6.2.9//NONSGML v1.0//EN
CALSCALE:GREGORIAN
METHOD:PUBLISH
X-WR-CALNAME:Palace Bar Gay | LGBTQ+ Club, Drag Brunch &amp; Shows - South Florida, FL
X-ORIGINAL-URL:https://palacesouthbeach.com
X-WR-CALDESC:Events for Palace Bar Gay | LGBTQ+ Club, Drag Brunch &amp; Shows - South Florida, FL
REFRESH-INTERVAL;VALUE=DURATION:PT1H
X-Robots-Tag:noindex
X-PUBLISHED-TTL:PT1H
BEGIN:VTIMEZONE
TZID:America/New_York
BEGIN:DAYLIGHT
TZOFFSETFROM:-0500
TZOFFSETTO:-0400
TZNAME:EDT
DTSTART:20260308T070000
END:DAYLIGHT
BEGIN:STANDARD
TZOFFSETFROM:-0400
TZOFFSETTO:-0500
TZNAME:EST
DTSTART:20261101T060000
END:STANDARD
END:VTIMEZONE
BEGIN:VEVENT
DTSTART;TZID=America/New_York:20260103T200000
DTEND;TZID=America/New_York:20260104T000000
DTSTAMP:20260423T013026
CREATED:20251230T021954Z
LAST-MODIFIED:20251230T021954Z
UID:23364-1767470400-1767484800@palacesouthbeach.com
SUMMARY:Wolf Moon Full Moon Party | January 3 | Palace South Beach Miami Rooftop
DESCRIPTION:Kick off the new year under the glow of the Wolf Moon at our first Full Moon Party of 2026\, happening Friday\, January 3 from 8PM to 12AM at the Palace South Beach Rooftop Pool Bar. \nThis rooftop celebration features a high-energy DJ set by TheCortes and live percussion by Hussein Abdala\, creating a soundscape as wild and electric as the full moon itself. Set beneath the open Miami sky\, the Wolf Moon invites transformation\, release\, and rooftop revelry. \nSwim\, sip\, howl\, and dance beneath the moonlight as Palace brings you another signature experience filled with music\, movement\, and Miami magic—all from the most iconic LGBTQ+ rooftop in South Beach.
URL:https://palacesouthbeach.com/event/wolf-moon-full-moon-party-january-3-palace-south-beach-miami-rooftop/
CATEGORIES:Pool Party
ATTACH;FMTTYPE=image/jpeg:https://palacesouthbeach.com/wp-content/uploads/2025/12/Full-Moon-Party-2.0-3-Beaver-Moon-Full-Moon-Party-1.jpeg
END:VEVENT
END:VCALENDAR