BEGIN:VCALENDAR
VERSION:2.0
PRODID:-//Palace Bar Gay | LGBTQ+ Club, Drag Brunch &amp; Shows - South Florida, FL - ECPv6.2.9//NONSGML v1.0//EN
CALSCALE:GREGORIAN
METHOD:PUBLISH
X-ORIGINAL-URL:https://palacesouthbeach.com
X-WR-CALDESC:Events for Palace Bar Gay | LGBTQ+ Club, Drag Brunch &amp; Shows - South Florida, FL
REFRESH-INTERVAL;VALUE=DURATION:PT1H
X-Robots-Tag:noindex
X-PUBLISHED-TTL:PT1H
BEGIN:VTIMEZONE
TZID:America/Halifax
BEGIN:DAYLIGHT
TZOFFSETFROM:-0400
TZOFFSETTO:-0300
TZNAME:ADT
DTSTART:20250309T060000
END:DAYLIGHT
BEGIN:STANDARD
TZOFFSETFROM:-0300
TZOFFSETTO:-0400
TZNAME:AST
DTSTART:20251102T050000
END:STANDARD
BEGIN:DAYLIGHT
TZOFFSETFROM:-0400
TZOFFSETTO:-0300
TZNAME:ADT
DTSTART:20260308T060000
END:DAYLIGHT
BEGIN:STANDARD
TZOFFSETFROM:-0300
TZOFFSETTO:-0400
TZNAME:AST
DTSTART:20261101T050000
END:STANDARD
TZID:America/New_York
BEGIN:DAYLIGHT
TZOFFSETFROM:-0500
TZOFFSETTO:-0400
TZNAME:EDT
DTSTART:20250309T070000
END:DAYLIGHT
BEGIN:STANDARD
TZOFFSETFROM:-0400
TZOFFSETTO:-0500
TZNAME:EST
DTSTART:20251102T060000
END:STANDARD
TZID:UTC
BEGIN:STANDARD
TZOFFSETFROM:+0000
TZOFFSETTO:+0000
TZNAME:UTC
DTSTART:20240101T000000
END:STANDARD
END:VTIMEZONE
BEGIN:VEVENT
DTSTART;TZID=America/Halifax:20260301T220000
DTEND;TZID=America/Halifax:20260301T235900
DTSTAMP:20260422T164432
CREATED:20260218T180329Z
LAST-MODIFIED:20260218T180456Z
UID:23457-1772402400-1772409540@palacesouthbeach.com
SUMMARY:AURÉA Rooftop Pool Party | March 1 | Palace South Beach Miami
DESCRIPTION:Step into golden-hour glory at AURÉA Rooftop Pool Party\, happening Sunday\, March 1 from 2PM to 10PM at the iconic Palace South Beach Miami Rooftop Pool Bar. \nWith the tagline “Where Day Turns Legendary\,” AURÉA blends sun-drenched vibes with elevated sound\, transforming your Sunday into a full-day rooftop escape in the heart of Miami Beach. Headlining the experience is DJ Juka\, delivering high-energy beats as the sun dips into the horizon. Setting the tone from the start is DJ JRNY\, warming up the rooftop with deep grooves and daytime heat. \nExpect poolside cocktails\, vibrant energy\, and panoramic South Beach views as day transitions into a glowing Miami sunset. Whether you’re lounging poolside or dancing under the sky\, Palace South Beach is where legendary moments are made. \nEvent Highlights:\n\n\n🗓 March 1 \n\n\n⏰ 2PM–10PM \n\n\n🎧 Headliner: DJ Juka \n\n\n🎶 Opening Set: DJ JRNY \n\n\n🌊 Rooftop Pool Bar at Palace South Beach \n\n\n🌅 Sunset vibes in the heart of Miami Beach
URL:https://palacesouthbeach.com/event/aurea-rooftop-pool-party-march-1-palace-south-beach-miami/
CATEGORIES:Guest Performance,Music Event,Pool Party
ATTACH;FMTTYPE=image/jpeg:https://palacesouthbeach.com/wp-content/uploads/2026/02/Untitled-2-Juka-1.jpeg
END:VEVENT
BEGIN:VEVENT
DTSTART;TZID=America/Halifax:20251205T200000
DTEND;TZID=America/Halifax:20251205T233000
DTSTAMP:20260422T164432
CREATED:20251128T194914Z
LAST-MODIFIED:20251128T194914Z
UID:23313-1764964800-1764977400@palacesouthbeach.com
SUMMARY:Full Moon Party – Cold Moon Edition | December 5 at Palace South Beach Miami
DESCRIPTION:As winter approaches\, Palace South Beach invites you to close out the year under the stars with our Cold Moon Full Moon Party\, happening Friday\, December 5 from 8PM to midnight at our rooftop pool bar. \nThis moonlit rooftop pool party features music by DJ The Cortes and a live percussion performance by Hussein Abdala\, setting the rhythm for a night of cosmic energy\, cool vibes\, and open-air celebration. The Cold Moon—the last full moon of the year—brings a powerful close to the season\, and there’s no better place to honor it than high above Ocean Drive at Miami’s most iconic LGBTQ+ rooftop. \nSip cocktails\, dip your toes\, and let the beat move you through the night. Whether you’re soaking in the moonlight or dancing poolside\, this event is pure Miami magic.
URL:https://palacesouthbeach.com/event/full-moon-party-cold-moon-edition-december-5-at-palace-south-beach-miami/
CATEGORIES:Music Event,Pool Party
ATTACH;FMTTYPE=image/jpeg:https://palacesouthbeach.com/wp-content/uploads/2025/11/Full-Moon-Party-2.0-3-Beaver-Moon-Full-Moon-Party-1.jpeg
END:VEVENT
BEGIN:VEVENT
DTSTART;TZID=America/New_York:20250807T200000
DTEND;TZID=America/New_York:20250807T230000
DTSTAMP:20260422T164432
CREATED:20250804T234055Z
LAST-MODIFIED:20250804T234337Z
UID:23073-1754596800-1754607600@palacesouthbeach.com
SUMMARY:Full Moon Party – Sturgeon Moon Edition | August 7 at Palace South Beach Miami
DESCRIPTION:Step into the moonlight for another radiant rooftop celebration with the Full Moon Party – Sturgeon Moon Edition on Thursday\, August 7\, from 8PM to 11PM at Palace South Beach Miami. \nIn partnership with Mexica Tequila\, this lunar-inspired rooftop event brings the heat with a stellar lineup of performances:– Beats by DJ The Cortes– Live percussions by Hussein Abdala– Fiery performance by Damien Lenore \nSet beneath the glow of the Sturgeon Moon\, this unforgettable Miami Beach experience blends music\, movement\, and mysticism. Sip curated cocktails\, feel the rooftop breeze\, and celebrate the full moon surrounded by Miami’s vibrant LGBTQ+ community. \nThis is the Palace South Beach vibe—elevated\, electric\, and open to all under the stars.
URL:https://palacesouthbeach.com/event/full-moon-party-sturgeon-moon-edition-august-7-at-palace-south-beach-miami/
CATEGORIES:Guest Performance,Guest Performer,Music Event
ATTACH;FMTTYPE=image/jpeg:https://palacesouthbeach.com/wp-content/uploads/2025/08/Full-Moon-Party-copy-2-Full-Moon-Party-Aug-7-1.jpeg
END:VEVENT
BEGIN:VEVENT
DTSTART;TZID=America/New_York:20250710T200000
DTEND;TZID=America/New_York:20250710T230000
DTSTAMP:20260422T164432
CREATED:20250702T153539Z
LAST-MODIFIED:20250702T153539Z
UID:23021-1752177600-1752188400@palacesouthbeach.com
SUMMARY:Full Moon Party – Buck Moon Edition | July 10 at Palace South Beach Miami
DESCRIPTION:Let the moonlight guide you to the rooftop for our Full Moon Party – Buck Moon Edition on Thursday\, July 10 from 8PM to 11PM at Palace South Beach Miami. \nBask under the glow of the Buck Moon with an electrifying night of music\, movement\, and magic. Featuring a high-energy set by DJ The Cortes and a mesmerizing fire dance performance by Damien Lenore\, this celestial rooftop experience blends rhythm\, ritual\, and rooftop views into one unforgettable night. \nIn proud partnership with Mexica Tequila\, the night will also feature themed cocktails and lunar vibes that honor the full moon’s wild energy—Miami Beach style. \nLocated in the heart of Miami’s LGBTQ+ nightlife\, Palace South Beach is the only place to be when the moon is full and the energy is unstoppable. Dress to glow.
URL:https://palacesouthbeach.com/event/full-moon-party-buck-moon-edition-july-10-at-palace-south-beach-miami/
LOCATION:Rooftop Bar
CATEGORIES:Guest Performer,Music Event
ATTACH;FMTTYPE=image/jpeg:https://palacesouthbeach.com/wp-content/uploads/2025/07/Full-Moon-Party-2-Miami-Beach-After-Party-1.jpeg
END:VEVENT
BEGIN:VEVENT
DTSTART;TZID=America/Halifax:20250612T190000
DTEND;TZID=America/Halifax:20250612T230000
DTSTAMP:20260422T164432
CREATED:20250602T131450Z
LAST-MODIFIED:20250602T131604Z
UID:22955-1749754800-1749769200@palacesouthbeach.com
SUMMARY:Strawberry New Moon Party – June 12 at Palace South Beach Miami
DESCRIPTION:Join us under the stars for the Strawberry New Moon Party\, a one-night-only rooftop celebration on Thursday\, June 12 from 7PM to 11PM at the iconic Palace Bar Rooftop in South Beach Miami. \nThis cosmic evening blends sound\, movement\, and elemental energy in an immersive open-air experience. Will Torres (@willtorrestherapy) will guide a transformative sound healing session\, followed by live percussion from Hussein Abdala (@husseinabdala)\, curated grooves by DJ Ivan Cortes (@thecortes)\, and a breathtaking fire dance performance by Damien Lenore. \nSet under the glow of the Strawberry New Moon\, this rooftop event at Palace South Beach Miami offers an intentional\, mystical celebration infused with Miami’s signature style. Sip\, sway\, and stargaze in the heart of Miami Beach.
URL:https://palacesouthbeach.com/event/strawberry-new-moon-party-rooftop-sound-healing-fire-dance-palace-south-beach-miami/
CATEGORIES:Guest Performance,Guest Performer,Music Event
ATTACH;FMTTYPE=image/jpeg:https://palacesouthbeach.com/wp-content/uploads/2025/06/Strawberry-Moon-event-2-Miami-Beach-After-Party-1.jpeg
END:VEVENT
BEGIN:VEVENT
DTSTART;TZID=UTC:20250426T150000
DTEND;TZID=UTC:20250426T210000
DTSTAMP:20260422T164432
CREATED:20250520T163554Z
LAST-MODIFIED:20250520T163554Z
UID:22934-1745679600-1745701200@palacesouthbeach.com
SUMMARY:Rooftop Pool Party with DJ David Alvhar – April 26 at Palace South Beach Miami
DESCRIPTION:Dive into the ultimate rooftop experience at Palace South Beach Miami on Friday\, April 26\, as we celebrate the birthday of international guest DJ David Alvhar with a high-energy rooftop pool party from 3PM to 9PM. \nGet ready to dance\, splash\, and vibe poolside with stunning Miami views\, purple sunset hues\, and nonstop beats from one of the hottest DJs in the scene. This is more than just a party—it’s a birthday blowout at Miami’s most iconic LGBTQ+ destination. \nWhether you’re living for the music\, the rooftop views\, or the unforgettable energy that only Palace delivers\, this is where you want to be. Come early\, grab a drink\, and let’s make April 26 fabulous.
URL:https://palacesouthbeach.com/event/rooftop-pool-party-with-dj-david-alvhar-april-26-at-palace-south-beach-miami/
CATEGORIES:Guest Performer,Music Event,Pool Party
ATTACH;FMTTYPE=image/jpeg:https://palacesouthbeach.com/wp-content/uploads/2025/05/David-Alvhar-2-1.jpeg
END:VEVENT
BEGIN:VEVENT
DTSTART;VALUE=DATE:20250327
DTEND;VALUE=DATE:20250330
DTSTAMP:20260422T164432
CREATED:20250314T233312Z
LAST-MODIFIED:20250315T195111Z
UID:22726-1743033600-1743292799@palacesouthbeach.com
SUMMARY:Miami Music Week 2025 at Palace Bar
DESCRIPTION:Three Epic Events You Can’t Miss\n📍 Location: Palace Bar Rooftop\, Miami Beach📅 Dates: March 27–29\, 2025🎟 Tickets: Available now – secure your spot before they sell out! \nMiami Music Week is taking over South Beach\, and Palace Bar is hosting three high-energy rooftop events featuring some of the world’s top DJs. With non-stop beats\, immersive sound and lighting\, and a vibrant party crowd\, this is where you want to be for MMW 2025. \nJoin us for three days of unforgettable music and rooftop vibes: \n\nSOLAR FLARE – Miami Music Week Rooftop Party\n📅 Date: Thursday\, March 27\, 2025🕛 Time: 12 PM – 4 AM🎧 Music By: Diezel\, QBA\, Ray MD\, Eddie Lopez\, Adriano Longi\, Silvio Rodrigues\, Mike Foch\, Soicy📍 Where: Palace Bar Rooftop\, Miami Beach🎟 Tickets: Get Tickets Now \nKick off Miami Music Week with an electrifying rooftop event featuring an all-star DJ lineup. SOLAR FLARE brings you a sunset-to-late-night journey of house and techno beats\, paired with stunning ocean views and a high-energy atmosphere. \n🔗 Get Tickets Here \n\n\nWE’RE NEVER GOING HOME – Miami Music Week Pool Party\n📅 Date: Friday\, March 28\, 2025🕛 Time: 2 PM – 5 AM🎧 Music By: Adam Scott\, Anthony Rubinetti\, Bryan Lubliner\, Chris Hammett (Percussion)\, Doc Brown\, Freshcobar\, Fresh Powder\, James Callahan\, James Hurr\, K3SS\, Lace\, Lavelle Dupree\, Licious\, Louis Dee\, Madison Orange📍 Where: Palace Bar Rooftop\, Miami Beach🎟 Tickets: Get Tickets Now \nA Miami Music Week staple\, WE’RE NEVER GOING HOME delivers massive beats\, deep basslines\, and an all-day\, all-night vibe. With a stacked DJ lineup and live percussion by Chris Hammett\, expect nothing but pure\, high-energy performances. \n🔗 Get Tickets Here \n\nYOUNAN MUSIC – Palace Presents Miami Music Week Takeover\n📅 Date: Saturday\, March 29\, 2025🕛 Time: 12 PM – 4 AM🎧 Music By: Saeed Younan\, Sirus Hood\, Tomy Villacorta\, Carlo Lio\, Gettoblaster\, David Herrero\, Malikk\, Eddie Lopez\, Adriano Longi\, Diezel\, Armandd G\, Hector Ralph\, JRNY\, Laura Silva\, MXM\, Mote\, Pabel Lima\, Roly G\, Fortugna📍 Where: Palace Bar Rooftop\, Miami Beach🎟 Tickets: Get Tickets Now \nFor true house and techno lovers\, YOUNAN MUSIC is bringing a powerhouse lineup to the Palace Bar rooftop. Featuring underground legends and rising stars\, this Miami Music Week showcase will have you dancing from day to late night. \n🔗 Get Tickets Here \n\nWhy You Can’t Miss Miami Music Week at Palace Bar\n✔ The Ultimate Rooftop Venue – Dance under the stars at Miami Beach’s most iconic rooftop party space.✔ World-Class DJs – House\, techno\, and electronic beats from top international artists.✔ Miami’s Best Vibes – Incredible energy\, stunning ocean views\, and an unmatched crowd.✔ Three Epic Events – Three unique parties\, each offering a different music experience. \n\nSecure Your Spot at Miami Music Week’s Hottest Events\n📍 Where: Palace Bar Rooftop\, Miami Beach📅 Dates: March 27–29\, 2025🎟 Tickets: Available now – don’t wait! \nFor bottle service inquire at info@palacesouthbeach.com \n🔥 Choose your party & grab your tickets now! \n🔗 SOLAR FLARE🔗 WE’RE NEVER GOING HOME🔗 YOUNAN MUSIC
URL:https://palacesouthbeach.com/event/miami-music-week-2025/
CATEGORIES:Concert,Music Event
ATTACH;FMTTYPE=image/jpeg:https://palacesouthbeach.com/wp-content/uploads/2025/03/sidenav-header.jpg
END:VEVENT
BEGIN:VEVENT
DTSTART;TZID=UTC:20250302T180000
DTEND;TZID=UTC:20250303T020000
DTSTAMP:20260422T164432
CREATED:20250223T205008Z
LAST-MODIFIED:20250223T205008Z
UID:22654-1740938400-1740967200@palacesouthbeach.com
SUMMARY:Illuminate: The Ultimate After-Beach T-Dance at Palace Bar!
DESCRIPTION:Get ready to light up the night at Illuminate\, Palace Bar’s electrifying After-Beach T-Dance on Sunday\, March 2\, 2025\, from 6 PM to 2 AM! With music by DJs Cesar Hernandz and Carlos Rojas\, expect a high-energy fusion of house beats and South Beach vibes that will keep you dancing long after the sun sets. \nExperience Palace like never before with our brand-new state-of-the-art sound system and dynamic lighting\, designed to elevate the party to legendary levels. Whether you’re fresh off the beach or ready for a night out\, Illuminate is your go-to Sunday escape for music\, magic\, and Miami nightlife at its best. \n🎧 DJs: Cesar Hernandz & Carlos Rojas📍 Where: Palace Bar\, Miami Beach📅 When: March 2\, 2025 | 6 PM – 2 AM \n✨ Join us for an unforgettable night where the music pulses\, the lights dazzle\, and the party never stops. See you on the dance floor! \n👉 RSVP now at palacesouthbeach.com
URL:https://palacesouthbeach.com/event/illuminate-the-ultimate-after-beach-t-dance-at-palace-bar/
LOCATION:Main Restaurant/Bar\, PALACE\, Miami Beach\, Florida
CATEGORIES:Music Event
ATTACH;FMTTYPE=image/jpeg:https://palacesouthbeach.com/wp-content/uploads/2025/02/WInter-Party-After-4-1.jpeg
END:VEVENT
BEGIN:VEVENT
DTSTART;TZID=UTC:20240622T223000
DTEND;TZID=UTC:20240623T050000
DTSTAMP:20260422T164432
CREATED:20240618T221853Z
LAST-MODIFIED:20240618T223140Z
UID:22127-1719095400-1719118800@palacesouthbeach.com
SUMMARY:URGE Miami Thanksgiving Kickoff at The Palace!
DESCRIPTION:Get ready to dance the night away at the hottest kickoff party for the Miami Thanksgiving Festival! Join us on Saturday\, June 22nd\, at The Palace for an unforgettable night with beats by DJ Danny Verde. Starting at 10:30pm and going until late\, this epic event has no cover charge. Located at 1052 Ocean Drive\, Miami Beach\, it’s the perfect place to start your festival weekend. Come for the music\, stay for the vibes\, and celebrate with us at the iconic Palace! No cover charge!
URL:https://palacesouthbeach.com/event/urge-miami-thanksgiving-kickoff-at-the-palace/
LOCATION:Main Restaurant/Bar\, PALACE\, Miami Beach\, Florida
CATEGORIES:Music Event
ATTACH;FMTTYPE=image/jpeg:https://palacesouthbeach.com/wp-content/uploads/2024/06/Danny-Verde-2-2-1.jpeg
END:VEVENT
END:VCALENDAR