BEGIN:VCALENDAR
VERSION:2.0
PRODID:-//Palace Bar Gay | LGBTQ+ Club, Drag Brunch &amp; Shows - South Florida, FL - ECPv6.2.9//NONSGML v1.0//EN
CALSCALE:GREGORIAN
METHOD:PUBLISH
X-WR-CALNAME:Palace Bar Gay | LGBTQ+ Club, Drag Brunch &amp; Shows - South Florida, FL
X-ORIGINAL-URL:https://palacesouthbeach.com
X-WR-CALDESC:Events for Palace Bar Gay | LGBTQ+ Club, Drag Brunch &amp; Shows - South Florida, FL
REFRESH-INTERVAL;VALUE=DURATION:PT1H
X-Robots-Tag:noindex
X-PUBLISHED-TTL:PT1H
BEGIN:VTIMEZONE
TZID:America/New_York
BEGIN:DAYLIGHT
TZOFFSETFROM:-0500
TZOFFSETTO:-0400
TZNAME:EDT
DTSTART:20250309T070000
END:DAYLIGHT
BEGIN:STANDARD
TZOFFSETFROM:-0400
TZOFFSETTO:-0500
TZNAME:EST
DTSTART:20251102T060000
END:STANDARD
END:VTIMEZONE
BEGIN:VEVENT
DTSTART;TZID=America/New_York:20250807T200000
DTEND;TZID=America/New_York:20250807T230000
DTSTAMP:20260423T083017
CREATED:20250804T234055Z
LAST-MODIFIED:20250804T234337Z
UID:23073-1754596800-1754607600@palacesouthbeach.com
SUMMARY:Full Moon Party – Sturgeon Moon Edition | August 7 at Palace South Beach Miami
DESCRIPTION:Step into the moonlight for another radiant rooftop celebration with the Full Moon Party – Sturgeon Moon Edition on Thursday\, August 7\, from 8PM to 11PM at Palace South Beach Miami. \nIn partnership with Mexica Tequila\, this lunar-inspired rooftop event brings the heat with a stellar lineup of performances:– Beats by DJ The Cortes– Live percussions by Hussein Abdala– Fiery performance by Damien Lenore \nSet beneath the glow of the Sturgeon Moon\, this unforgettable Miami Beach experience blends music\, movement\, and mysticism. Sip curated cocktails\, feel the rooftop breeze\, and celebrate the full moon surrounded by Miami’s vibrant LGBTQ+ community. \nThis is the Palace South Beach vibe—elevated\, electric\, and open to all under the stars.
URL:https://palacesouthbeach.com/event/full-moon-party-sturgeon-moon-edition-august-7-at-palace-south-beach-miami/
CATEGORIES:Guest Performance,Guest Performer,Music Event
ATTACH;FMTTYPE=image/jpeg:https://palacesouthbeach.com/wp-content/uploads/2025/08/Full-Moon-Party-copy-2-Full-Moon-Party-Aug-7-1.jpeg
END:VEVENT
END:VCALENDAR