BEGIN:VCALENDAR
VERSION:2.0
PRODID:-//Palace Bar Gay | LGBTQ+ Club, Drag Brunch &amp; Shows - South Florida, FL - ECPv6.2.9//NONSGML v1.0//EN
CALSCALE:GREGORIAN
METHOD:PUBLISH
X-WR-CALNAME:Palace Bar Gay | LGBTQ+ Club, Drag Brunch &amp; Shows - South Florida, FL
X-ORIGINAL-URL:https://palacesouthbeach.com
X-WR-CALDESC:Events for Palace Bar Gay | LGBTQ+ Club, Drag Brunch &amp; Shows - South Florida, FL
REFRESH-INTERVAL;VALUE=DURATION:PT1H
X-Robots-Tag:noindex
X-PUBLISHED-TTL:PT1H
BEGIN:VTIMEZONE
TZID:America/Halifax
BEGIN:DAYLIGHT
TZOFFSETFROM:-0400
TZOFFSETTO:-0300
TZNAME:ADT
DTSTART:20250309T060000
END:DAYLIGHT
BEGIN:STANDARD
TZOFFSETFROM:-0300
TZOFFSETTO:-0400
TZNAME:AST
DTSTART:20251102T050000
END:STANDARD
END:VTIMEZONE
BEGIN:VEVENT
DTSTART;TZID=America/Halifax:20250627T090000
DTEND;TZID=America/Halifax:20250627T100000
DTSTAMP:20260423T110027
CREATED:20250615T180845Z
LAST-MODIFIED:20250615T180845Z
UID:22988-1751014800-1751018400@palacesouthbeach.com
SUMMARY:Werk It Out – Drag Workout & Brunch | June 27 in Miami Beach
DESCRIPTION:Kick off your Pride Month Friday with a double dose of fab at Werk It Out\, happening Friday\, June 27! Start your day at 9:00 AM with a heart-pumping yoga/HIIT workout inside the heated Mind & Body Studio at Powerhouse Gym\, located at 450 NW 1st Ave\, Suite 200\, Miami\, FL 33128. Led by Powerhouse instructors and hosted by Miami’s fiercest drag queens\, this sweat session brings energy\, empowerment\, and a touch of camp. \nThen\, keep the Pride vibes going with an unforgettable drag brunch at Palace South Beach\, starting at 11:00 AM at 1052 Ocean Drive\, Miami Beach\, FL. Expect jaw-dropping performances\, brunch favorites\, and that iconic Palace energy you know and love. \n✨ This event is part of Palace’s Pride Month celebration\, blending wellness\, drag\, and community into one unforgettable day across Miami and Miami Beach. \n🎟️ Space is limited—RSVP now to reserve your spot:👉 Click here to RSVP \nFrom the workout mat to the Ocean Drive runway\, this is your Pride moment to sweat\, slay\, and sparkle. Let’s Werk It Out.
URL:https://palacesouthbeach.com/event/werk-it-out-drag-workout/
LOCATION:Powerhouse Gym\, 450 NW 1st Ave Suite 200\, Miami\, FL\, 33128
CATEGORIES:Guest Performance,Show
ATTACH;FMTTYPE=image/jpeg:https://palacesouthbeach.com/wp-content/uploads/2025/06/Untitled-2-1.jpeg
END:VEVENT
END:VCALENDAR