BEGIN:VCALENDAR
VERSION:2.0
PRODID:-//Palace Bar Gay | LGBTQ+ Club, Drag Brunch &amp; Shows - South Florida, FL - ECPv6.2.9//NONSGML v1.0//EN
CALSCALE:GREGORIAN
METHOD:PUBLISH
X-ORIGINAL-URL:https://palacesouthbeach.com
X-WR-CALDESC:Events for Palace Bar Gay | LGBTQ+ Club, Drag Brunch &amp; Shows - South Florida, FL
REFRESH-INTERVAL;VALUE=DURATION:PT1H
X-Robots-Tag:noindex
X-PUBLISHED-TTL:PT1H
BEGIN:VTIMEZONE
TZID:America/New_York
BEGIN:DAYLIGHT
TZOFFSETFROM:-0500
TZOFFSETTO:-0400
TZNAME:EDT
DTSTART:20240310T070000
END:DAYLIGHT
BEGIN:STANDARD
TZOFFSETFROM:-0400
TZOFFSETTO:-0500
TZNAME:EST
DTSTART:20241103T060000
END:STANDARD
BEGIN:DAYLIGHT
TZOFFSETFROM:-0500
TZOFFSETTO:-0400
TZNAME:EDT
DTSTART:20250309T070000
END:DAYLIGHT
BEGIN:STANDARD
TZOFFSETFROM:-0400
TZOFFSETTO:-0500
TZNAME:EST
DTSTART:20251102T060000
END:STANDARD
BEGIN:DAYLIGHT
TZOFFSETFROM:-0500
TZOFFSETTO:-0400
TZNAME:EDT
DTSTART:20260308T070000
END:DAYLIGHT
BEGIN:STANDARD
TZOFFSETFROM:-0400
TZOFFSETTO:-0500
TZNAME:EST
DTSTART:20261101T060000
END:STANDARD
TZID:America/Halifax
BEGIN:DAYLIGHT
TZOFFSETFROM:-0400
TZOFFSETTO:-0300
TZNAME:ADT
DTSTART:20250309T060000
END:DAYLIGHT
BEGIN:STANDARD
TZOFFSETFROM:-0300
TZOFFSETTO:-0400
TZNAME:AST
DTSTART:20251102T050000
END:STANDARD
TZID:UTC
BEGIN:STANDARD
TZOFFSETFROM:+0000
TZOFFSETTO:+0000
TZNAME:UTC
DTSTART:20240101T000000
END:STANDARD
END:VTIMEZONE
BEGIN:VEVENT
DTSTART;VALUE=DATE:20260209
DTEND;VALUE=DATE:20260217
DTSTAMP:20260422T211414
CREATED:20260212T053304Z
LAST-MODIFIED:20260212T053304Z
UID:23439-1770595200-1771286399@palacesouthbeach.com
SUMMARY:Palace 38th Anniversary | Chicago Theme Week | Feb 9–16
DESCRIPTION:Step into the razzle-dazzle as Palace South Beach Miami celebrates 38 iconic years with a full week of glamour\, gowns\, and glitter—Broadway-style. From February 9 to 16\, Palace transforms into a jazz-soaked speakeasy\, themed after the legendary musical Chicago. Think feathers\, fishnets\, red lips\, and bold performances honoring the queens who’ve defined drag in Miami Beach. \nThe main event takes place on Monday\, February 12\, from 8PM to 12AM—a showstopping anniversary spectacle hosted by Cc Glitzer\, Poizon Ivy Lords\, and Missy Meyake Lepaige. \n💃 Starring the Queens of Palace:\n\n\nValentina Valentino \n\n\nKat Wilderness \n\n\nD’Vice Dion \n\n\nTiffany Fantasia \n\n\nChachita Rubio \n\n\nTiara Love Dupree \n\n\nJoanna James \n\n\nMQ Glitzer \n\n\nAkasha O’Hara Lords \n\n\nOlga Dantelly \n\n\nTiffany & Oscar \n\n\nElishaly D’Witshes \n\n\nFrom the catwalk to the rooftop\, this anniversary week brings together Miami’s fiercest drag royalty in celebration of nearly four decades of queer culture\, resilience\, and performance excellence. Whether you’re a Palace regular or it’s your first time\, this is the event to remember.
URL:https://palacesouthbeach.com/event/palace-38th-anniversary-chicago-theme-week-feb-9-16/
CATEGORIES:Festival,Guest Performance,Pageant,Pool Party,Show
ATTACH;FMTTYPE=image/jpeg:https://palacesouthbeach.com/wp-content/uploads/2026/02/38th-Anniversary-Week-3-Teaser-1.jpeg
END:VEVENT
BEGIN:VEVENT
DTSTART;VALUE=DATE:20250601
DTEND;VALUE=DATE:20250701
DTSTAMP:20260422T211414
CREATED:20250602T132528Z
LAST-MODIFIED:20250602T132528Z
UID:22958-1748736000-1751327999@palacesouthbeach.com
SUMMARY:Pride Month Celebration – All June at Palace South Beach Miami
DESCRIPTION:June is Pride Month\, and there’s no better place to celebrate than at Palace South Beach Miami—the heart of Miami Beach’s LGBTQ+ scene. All month long\, Palace turns up the volume with daily drag performances\, special guest appearances\, themed brunches\, rooftop parties\, and a rainbow of fabulous surprises. \nWhether you’re soaking up the sun at our iconic drag brunch or living for the lights at our late-night shows\, Pride at Palace is a nonstop celebration of love\, identity\, and unapologetic self-expression. This is your invitation to shine\, strut\, and slay—every single day of June. \nLocated in the heart of Miami’s Art Deco District\, Palace is proud to be an LGBTQ+ landmark and community hub. Come celebrate Pride Month in Miami where drag is a lifestyle\, glitter is a necessity\, and everyone is welcome.
URL:https://palacesouthbeach.com/event/celebrate-pride-month-in-miami-daily-drag-shows-at-palace-south-beach/
CATEGORIES:Festival
ATTACH;FMTTYPE=image/jpeg:https://palacesouthbeach.com/wp-content/uploads/2025/06/Pride-Month-2-London-Adour-1.jpeg
END:VEVENT
BEGIN:VEVENT
DTSTART;TZID=America/Halifax:20250502T110000
DTEND;TZID=America/Halifax:20250505T000000
DTSTAMP:20260422T211414
CREATED:20250520T162721Z
LAST-MODIFIED:20250520T162721Z
UID:22931-1746183600-1746403200@palacesouthbeach.com
SUMMARY:Cinco de Fabulous at Palace South Beach Miami – May 2–5
DESCRIPTION:Get ready to turn up the heat for Cinco de Fabulous\, a four-day fiesta happening Friday\, May 2 through Monday\, May 5\, exclusively at Palace South Beach Miami. We’re bringing the vibrant energy of Cinco de Mayo to life with fabulous drag brunches and drag dinners all weekend long\, each packed with show-stopping performances by Miami’s most dazzling queens. \nOur featured partner\, Patrón El Cielo\, will be available for just $15—because no celebration in South Beach is complete without a little sparkle and tequila. Whether you’re brunching under the sun or living it up after dark\, this weekend is all about bold flavors\, fierce fashion\, and unforgettable entertainment. \nLocated in the heart of Miami Beach\, Palace is your go-to destination for LGBTQ+ nightlife\, drag shows\, and over-the-top events. This Cinco de Mayo\, come party where Miami comes alive—Palace South Beach.
URL:https://palacesouthbeach.com/event/cinco-de-fabulous/
CATEGORIES:Festival
ATTACH;FMTTYPE=image/jpeg:https://palacesouthbeach.com/wp-content/uploads/2025/05/Cinco-De-mayo-Weekend-3-Image-1.jpeg
END:VEVENT
BEGIN:VEVENT
DTSTART;VALUE=DATE:20241227
DTEND;VALUE=DATE:20250102
DTSTAMP:20260422T211414
CREATED:20241223T154611Z
LAST-MODIFIED:20241224T142246Z
UID:22525-1735257600-1735775999@palacesouthbeach.com
SUMMARY:Disco Glitter Ball: A New Year’s Week Celebration at Palace South Beach
DESCRIPTION:✨ Event Overview: From December 27 to January 1\, Palace South Beach is turning up the glam with a weeklong celebration of drag\, disco\, and excitement! It’s all leading up to a spectacular New Year’s Eve bash with fireworks and unforgettable performances that will keep the energy alive until 2 AM. \n💃 Special Highlights: \n\nFriday\, December 27 & Saturday\, December 28:\n\nTrinity The Tuck—@rupaulsdragrace winner—takes over the main room with her iconic drag performances.\nThe Mean Gays Comedy Show lights up the rooftop at 8 PM with their sharp wit and outrageous humor.\n\n\nSunday\, December 31 (New Year’s Eve):\n\nA dazzling NYE show featuring your favorite queens\, surprise DJs\, and special guests from 9 PM–2 AM.\nA spectacular fireworks display to ring in the New Year in true Palace fashion.\n\n\n\n🎉 When: \n\nDates: December 27–January 1\nNYE Hours: 9 PM–2 AM\n\n📍 Where: \n\nVenue: Palace South Beach\, the iconic LGBTQ+ hotspot located on Ocean Drive in Miami Beach.\n\n🌟 Why You Should Attend: Celebrate the holidays and New Year’s Eve at the ultimate LGBTQ+ destination. From dazzling rooftop comedy shows to Trinity The Tuck’s electrifying performances\, themed parties\, and a glitter-filled countdown\, this is the week to shine. Whether you’re here for the drag\, the disco\, or the fireworks\, you won’t want to miss this once-in-a-lifetime celebration. \n👉 Tickets:\nSecure your spot now at www.palacesouthbeach.com/book.
URL:https://palacesouthbeach.com/event/disco-glitter-ball-a-new-years-week-celebration-at-palace-south-beach/
CATEGORIES:Festival,Guest Performer,Show
ATTACH;FMTTYPE=image/jpeg:https://palacesouthbeach.com/wp-content/uploads/2024/12/New-Years-Eve-2024-14-Front-2.jpeg
END:VEVENT
BEGIN:VEVENT
DTSTART;TZID=UTC:20240518T000000
DTEND;TZID=UTC:20240519T000000
DTSTAMP:20260422T211414
CREATED:20200428T140523Z
LAST-MODIFIED:20240618T222039Z
UID:1215-1715990400-1716076800@palacesouthbeach.com
SUMMARY:Brooke Lynn Hytes Special Performance
DESCRIPTION:Brooke Lynn Hytes\, a tour de force in the drag world\, first captivated audiences on the eleventh season of “RuPaul’s Drag Race.” Known for her polished looks\, balletic grace\, and razor-sharp wit\, Hytes has not only claimed her status as a drag superstar but also made history as the first Canadian queen to compete on the show. Her journey on “Drag Race” was marked by high-fashion runways and memorable performances\, leading her to a well-deserved spot in the finale. Beyond television\, Brooke Lynn has graced stages worldwide\, bringing her unique blend of performance art and drag excellence to fans across the globe. \nThis May 18th and 19th\, Palace is thrilled to announce that Brooke Lynn Hytes will be taking the stage\, promising two nights of unparalleled entertainment. Prepare to be whisked away by Brooke Lynn’s signature blend of dance\, comedy\, and couture\, which promises to be as enchanting as it is electrifying. These performances are not just shows; they’re experiences\, meticulously crafted to dazzle and inspire. \nWhile details are still being finalized\, guests can anticipate a spectacle that combines Brooke Lynn’s renowned performance artistry with the vibrant atmosphere and inclusivity Palace is celebrated for. This is an opportunity to witness drag artistry at its finest\, in a venue that champions the very essence of LGBTQ+ culture and creativity. \nStay tuned for more information on what promises to be an unforgettable addition to Palace’s legacy of hosting drag royalty. Mark your calendars for May 18th and 19th – Brooke Lynn Hytes is coming\, and you won’t want to miss a moment of the magic.
URL:https://palacesouthbeach.com/event/brooke-lynn-hytes-special-performance/
LOCATION:Main Restaurant/Bar\, PALACE\, Miami Beach\, Florida
CATEGORIES:Festival
ATTACH;FMTTYPE=image/jpeg:https://palacesouthbeach.com/wp-content/uploads/2020/04/Brooklyne-Heights-2-BROOKE-LYNN-HYTE-1.jpeg
END:VEVENT
BEGIN:VEVENT
DTSTART;TZID=UTC:20240414T220000
DTEND;TZID=UTC:20240415T050000
DTSTAMP:20260422T211414
CREATED:20200716T143837Z
LAST-MODIFIED:20240618T222011Z
UID:8860-1713132000-1713157200@palacesouthbeach.com
SUMMARY:Pride Beats: An Evening with Kevin Aviance
DESCRIPTION:Kevin Aviance is an iconic figure in the world of dance music and drag performance\, renowned for his electrifying presence both on and off the stage. A member of the legendary House of Aviance\, Kevin’s multifaceted career spans hit club singles\, captivating drag performances\, and influential work in LGBTQ+ advocacy. With tracks like “Cunty” and “Din Da Da” that have become anthems in clubs around the globe\, Aviance blends music\, fashion\, and art in a way that defies expectations and celebrates the queer community. \nThis Miami Beach Pride weekend\, Palace is honored to host Kevin Aviance as our guest DJ in the Palace main room\, promising an unforgettable night of music and celebration. Set to perform on April 14th from 10 pm to 5 am\, Kevin will take the helm of what promises to be a pinnacle event of the Pride festivities\, enveloping the night in rhythms that invite freedom\, joy\, and unity on the dance floor. \nThe evening will kick off with the talented Carlos Rojas\, setting the stage with an opening set that’s sure to get the crowd moving and ready for the night ahead. Together\, Kevin Aviance and Carlos Rojas embody the spirit of Pride\, delivering not just a party but an experience where the beats are as boundless as the inclusivity and love that defines the event. \nAs Palace transforms into a haven of music and merriment for Miami Beach Pride\, we invite you to join us for a night where the community comes together to dance\, celebrate\, and honor the vibrant diversity that makes us proud. Don’t miss your chance to be part of the magic – mark your calendars for an epic celebration with Kevin Aviance on April 14th.
URL:https://palacesouthbeach.com/event/pride-beats-an-evening-with-kevin-aviance/
LOCATION:Main Restaurant/Bar\, PALACE\, Miami Beach\, Florida
CATEGORIES:Festival
ATTACH;FMTTYPE=image/jpeg:https://palacesouthbeach.com/wp-content/uploads/2020/07/Kevin-Aviance-2-Flyer-1.jpeg
END:VEVENT
END:VCALENDAR