BEGIN:VCALENDAR
VERSION:2.0
PRODID:-//Palace Bar Gay | LGBTQ+ Club, Drag Brunch &amp; Shows - South Florida, FL - ECPv6.2.9//NONSGML v1.0//EN
CALSCALE:GREGORIAN
METHOD:PUBLISH
X-WR-CALNAME:Palace Bar Gay | LGBTQ+ Club, Drag Brunch &amp; Shows - South Florida, FL
X-ORIGINAL-URL:https://palacesouthbeach.com
X-WR-CALDESC:Events for Palace Bar Gay | LGBTQ+ Club, Drag Brunch &amp; Shows - South Florida, FL
REFRESH-INTERVAL;VALUE=DURATION:PT1H
X-Robots-Tag:noindex
X-PUBLISHED-TTL:PT1H
BEGIN:VTIMEZONE
TZID:America/Halifax
BEGIN:DAYLIGHT
TZOFFSETFROM:-0400
TZOFFSETTO:-0300
TZNAME:ADT
DTSTART:20260308T060000
END:DAYLIGHT
BEGIN:STANDARD
TZOFFSETFROM:-0300
TZOFFSETTO:-0400
TZNAME:AST
DTSTART:20261101T050000
END:STANDARD
END:VTIMEZONE
BEGIN:VEVENT
DTSTART;TZID=America/Halifax:20260425T110000
DTEND;TZID=America/Halifax:20260425T160000
DTSTAMP:20260425T014828
CREATED:20260221T174231Z
LAST-MODIFIED:20260221T174231Z
UID:23578-1777114800-1777132800@palacesouthbeach.com
SUMMARY:Bubbly & Beauties Drag Brunch | Saturday Drag Brunch in Miami | Palace South Beach
DESCRIPTION:Pop the cork and strike a pose at Bubbly & Beauties\, the ultimate Saturday drag brunch in Miami\, happening every week at 11AM and 2PM at Palace South Beach Miami. \nHosted by the glamorous Missy Meyaki Lepaige\, this high-energy brunch experience features dazzling performances by the iconic Palace Divas\, delivering fierce looks\, powerhouse lip-syncs\, and nonstop entertainment right on Ocean Drive in Miami Beach. \nExpect bottomless vibes\, brunch favorites\, crowd interaction\, and the vibrant energy that has made Palace South Beach a legendary LGBTQ+ destination for over three decades. Whether you’re celebrating a birthday\, bachelorette\, vacation\, or just your fabulous self\, Saturday brunch at Palace is a Miami must. \nBecause Saturdays deserve sparkle.
URL:https://palacesouthbeach.com/event/bubbly-beauties-drag-brunch-saturday-drag-brunch-in-miami-palace-south-beach-9/
ATTACH;FMTTYPE=image/jpeg:https://palacesouthbeach.com/wp-content/uploads/2026/02/Weekly-Flyers-26-Saturday-Brunch-1.jpeg
END:VEVENT
BEGIN:VEVENT
DTSTART;TZID=America/Halifax:20260425T110000
DTEND;TZID=America/Halifax:20260425T160000
DTSTAMP:20260425T014828
CREATED:20260221T193329Z
LAST-MODIFIED:20260221T193329Z
UID:23685-1777114800-1777132800@palacesouthbeach.com
SUMMARY:The Real Drag Brunch of Miami | Saturday Drag Brunch | Palace South Beach
DESCRIPTION:Searching for the best Saturday drag brunch in Miami? Welcome to The Real Drag Brunch of Miami\, happening every Saturday at 11AM and 2PM at Palace South Beach Miami. \nHosted by the glamorous Missy Meyaki Lepaige\, this iconic brunch experience features high-energy performances by the sensational Palace Divas\, delivering unforgettable lip-syncs\, dazzling costumes\, and nonstop audience interaction in the heart of Miami Beach. \nLocated directly on Ocean Drive\, Palace South Beach is the premier destination for Drag Brunch Miami. Whether you’re celebrating a birthday\, planning a bachelorette party\, hosting a girls’ trip\, or just looking for an unforgettable weekend in South Beach\, this is the brunch everyone is talking about. \nIf you’re Googling “Drag Brunch Miami Saturday\,” you’ve already found the answer.
URL:https://palacesouthbeach.com/event/the-real-drag-brunch-of-miami-saturday-drag-brunch-palace-south-beach-9/
ATTACH;FMTTYPE=image/jpeg:https://palacesouthbeach.com/wp-content/uploads/2026/02/Weekly-Flyers-32-Saturday-Brunch-2.jpeg
END:VEVENT
BEGIN:VEVENT
DTSTART;TZID=America/Halifax:20260425T210000
DTEND;TZID=America/Halifax:20260426T020000
DTSTAMP:20260425T014828
CREATED:20260422T175135Z
LAST-MODIFIED:20260424T214318Z
UID:23988-1777150800-1777168800@palacesouthbeach.com
SUMMARY:💦 That Time of The Month Pool Party |  “Girls\, Vibes & Bad Decisions”
DESCRIPTION:That Time of The Month Pool Party | April 25 | Palace South Beach Miami\nGet ready for a night of Girls\, Vibes & Bad Decisions at That Time of The Month Pool Party\, taking over the Palace Rooftop Pool Bar at Palace South Beach Miami on April 25. \nHosted by The Tates\, this high-energy rooftop experience brings together an electric crowd\, unforgettable music\, and a vibe that speaks for itself. Expect high-energy DJs & surprises\, creating the perfect soundtrack for a night of dancing\, connection\, and rooftop energy in the heart of Miami Beach. \nFrom poolside moments to late-night energy\, the night is packed with contests\, prizes\, and exclusive giveaways\, making every moment feel elevated and unpredictable. With the iconic Ocean Drive backdrop\, cocktails flowing\, and the city lights surrounding you\, this is one rooftop party you don’t want to miss. \nWhether you’re coming for the music\, the crowd\, or the energy—this is where it all comes together. \nEvent Details:\nEvent: That Time of The Month Pool PartyDate: April 25\, 9pm – 2amLocation: Palace Rooftop Pool BarVenue: Palace South BeachAddress: 1052 Ocean Drive\, Miami Beach\, FLHosted by: The TatesHighlights: High-Energy DJs & Surprises\, Contests\, Prizes & Exclusive GiveawaysTagline: Girls\, Vibes & Bad Decisions
URL:https://palacesouthbeach.com/event/%f0%9f%92%a6-that-time-of-the-month-pool-party-girls-vibes-bad-decisions/
CATEGORIES:Pool Party
ATTACH;FMTTYPE=image/png:https://palacesouthbeach.com/wp-content/uploads/2026/04/Sunset-Sapphics-2.0-1-2-1.png
END:VEVENT
END:VCALENDAR