BEGIN:VCALENDAR
VERSION:2.0
PRODID:-//Palace Bar Gay | LGBTQ+ Club, Drag Brunch &amp; Shows - South Florida, FL - ECPv6.2.9//NONSGML v1.0//EN
CALSCALE:GREGORIAN
METHOD:PUBLISH
X-WR-CALNAME:Palace Bar Gay | LGBTQ+ Club, Drag Brunch &amp; Shows - South Florida, FL
X-ORIGINAL-URL:https://palacesouthbeach.com
X-WR-CALDESC:Events for Palace Bar Gay | LGBTQ+ Club, Drag Brunch &amp; Shows - South Florida, FL
REFRESH-INTERVAL;VALUE=DURATION:PT1H
X-Robots-Tag:noindex
X-PUBLISHED-TTL:PT1H
BEGIN:VTIMEZONE
TZID:America/Halifax
BEGIN:DAYLIGHT
TZOFFSETFROM:-0400
TZOFFSETTO:-0300
TZNAME:ADT
DTSTART:20260308T060000
END:DAYLIGHT
BEGIN:STANDARD
TZOFFSETFROM:-0300
TZOFFSETTO:-0400
TZNAME:AST
DTSTART:20261101T050000
END:STANDARD
END:VTIMEZONE
BEGIN:VEVENT
DTSTART;TZID=America/Halifax:20260422T130000
DTEND;TZID=America/Halifax:20260422T160000
DTSTAMP:20260422T020921
CREATED:20260221T181901Z
LAST-MODIFIED:20260221T181901Z
UID:23623-1776862800-1776873600@palacesouthbeach.com
SUMMARY:Ladies Who Lunch | Wednesday Drag Lunch in Miami | Palace South Beach
DESCRIPTION:Midweek just got marvelous with Ladies Who Lunch\, happening every Wednesday from 1PM to 4PM at Palace South Beach Miami. \nThis daytime drag experience is hosted by the Queens of the Palace\, delivering fierce performances\, glamorous looks\, and unforgettable entertainment right in the heart of Miami Beach. Whether you’re visiting South Beach\, planning a girls’ trip\, celebrating something special\, or just looking for the best weekday drag show in Miami\, this is where you want to be. \nEnjoy delicious lunch options\, refreshing cocktails\, and nonstop energy as the Palace Divas turn your Wednesday into a full-blown celebration. Because in Miami\, lunch is never just lunch — it’s a show.
URL:https://palacesouthbeach.com/event/ladies-who-lunch-wednesday-drag-lunch-in-miami-palace-south-beach-9/
ATTACH;FMTTYPE=image/jpeg:https://palacesouthbeach.com/wp-content/uploads/2026/02/Weekly-Flyers-25-Ladies-Who-Lunch-Wednesday-1.jpeg
END:VEVENT
BEGIN:VEVENT
DTSTART;TZID=America/Halifax:20260422T190000
DTEND;TZID=America/Halifax:20260422T235900
DTSTAMP:20260422T020921
CREATED:20260219T172543Z
LAST-MODIFIED:20260219T172543Z
UID:23510-1776884400-1776902340@palacesouthbeach.com
SUMMARY:Wayback Wednesdays | Wednesday Night Drag Show in Miami | Palace South Beach
DESCRIPTION:Take it back in style at Wayback Wednesdays\, the ultimate Wednesday night drag show in Miami\, happening every week from 7PM to 12AM at Palace South Beach Miami. \nHosted by the incomparable Tiffany Fantasia\, this midweek celebration brings nostalgic hits\, throwback vibes\, and unforgettable performances from the iconic Palace Divas. From classic anthems to retro glam looks\, Wayback Wednesdays delivers a high-energy tribute to the songs and eras you love—served with signature South Beach attitude. \nWhether you’re a local looking for the best LGBTQ+ nightlife in Miami or visiting Miami Beach and craving a midweek party\, Palace South Beach keeps the stage hot and the cocktails flowing every Wednesday night. \nBecause at Palace\, even the past feels fabulous.
URL:https://palacesouthbeach.com/event/wayback-wednesdays-wednesday-night-drag-show-in-miami-palace-south-beach-2/
ATTACH;FMTTYPE=image/jpeg:https://palacesouthbeach.com/wp-content/uploads/2026/02/Weekly-Flyers-7-Wednesday-Brunch-Tiffany-Fantasia-2.jpeg
END:VEVENT
END:VCALENDAR