BEGIN:VCALENDAR
VERSION:2.0
PRODID:-//Palace Bar Gay | LGBTQ+ Club, Drag Brunch &amp; Shows - South Florida, FL - ECPv6.2.9//NONSGML v1.0//EN
CALSCALE:GREGORIAN
METHOD:PUBLISH
X-WR-CALNAME:Palace Bar Gay | LGBTQ+ Club, Drag Brunch &amp; Shows - South Florida, FL
X-ORIGINAL-URL:https://palacesouthbeach.com
X-WR-CALDESC:Events for Palace Bar Gay | LGBTQ+ Club, Drag Brunch &amp; Shows - South Florida, FL
REFRESH-INTERVAL;VALUE=DURATION:PT1H
X-Robots-Tag:noindex
X-PUBLISHED-TTL:PT1H
BEGIN:VTIMEZONE
TZID:America/Halifax
BEGIN:DAYLIGHT
TZOFFSETFROM:-0400
TZOFFSETTO:-0300
TZNAME:ADT
DTSTART:20260308T060000
END:DAYLIGHT
BEGIN:STANDARD
TZOFFSETFROM:-0300
TZOFFSETTO:-0400
TZNAME:AST
DTSTART:20261101T050000
END:STANDARD
END:VTIMEZONE
BEGIN:VEVENT
DTSTART;TZID=America/Halifax:20260326T120000
DTEND;TZID=America/Halifax:20260327T040000
DTSTAMP:20260424T210939
CREATED:20260325T181243Z
LAST-MODIFIED:20260325T181243Z
UID:23915-1774526400-1774584000@palacesouthbeach.com
SUMMARY:Solar Flare featuring DIEZEL | Miami Music Week 2026 | Palace South Beach Miami
DESCRIPTION:Get ready for an explosive day-to-night experience at Solar Flare\, one of the must-attend events of Miami Music Week 2026\, happening March 26 from 12PM to 4AM at the Palace South Beach Miami Rooftop Pool Bar. \nHeadlining the event is powerhouse DJ DIEZEL\, returning to Miami Beach for a high-energy takeover that will keep the dance floor moving from day into the early morning hours. Known for his intense sound and crowd-moving sets\, DIEZEL delivers an unforgettable performance packed with fresh releases and underground energy. \nInspired by the fiery energy of Aries season\, Solar Flare is more than just a party—it’s a full-scale rooftop experience built on heat\, rhythm\, and nonstop movement. \nTaking place during both Miami Music Week and the Winter Music Conference\, this event draws music lovers\, industry insiders\, and partygoers from around the world to the heart of Miami Beach nightlife. \nThis edition also celebrates Eddie Lopez’s birthday\, adding another layer of energy and celebration to an already unforgettable day and night. \nFrom sun-soaked beats to late-night madness\, Solar Flare at Palace South Beach Miami is one of the hottest rooftop events of Miami Music Week. \n\nEvent Details:\nEvent: Solar FlareDate: March 26\, 2026Time: 12PM – 4AMLocation: Palace Rooftop Pool BarVenue: Palace South BeachAddress: 1052 Ocean Drive\, Miami Beach\, FLHeadliner: DIEZELOccasion: Miami Music Week 2026Special: Eddie Lopez Birthday Celebration
URL:https://palacesouthbeach.com/event/solar-flare-featuring-diezel-miami-music-week-2026-palace-south-beach-miami/
ATTACH;FMTTYPE=image/jpeg:https://palacesouthbeach.com/wp-content/uploads/2026/03/image0_1_cropped.jpeg
END:VEVENT
BEGIN:VEVENT
DTSTART;TZID=America/Halifax:20260327T110000
DTEND;TZID=America/Halifax:20260327T160000
DTSTAMP:20260424T210939
CREATED:20260221T185015Z
LAST-MODIFIED:20260221T185015Z
UID:23660-1774609200-1774627200@palacesouthbeach.com
SUMMARY:The Real Drag Brunch of Miami | Friday Drag Brunch | Palace South Beach
DESCRIPTION:There’s drag brunch… and then there’s The Real Drag Brunch of Miami. Join us every Friday at 11AM and 2PM at Palace South Beach Miami for the most iconic Friday drag brunch experience in Miami Beach. \nHosted by the legendary Tiffany Fantasia\, this high-energy brunch spectacular features show-stopping performances from the glamorous Palace Divas. Expect fierce lip-syncs\, dazzling costumes\, audience interaction\, and nonstop entertainment right on Ocean Drive in the heart of South Beach. \nWhether you’re celebrating a birthday\, planning a bachelorette party\, visiting Miami\, or simply looking for the best Friday drag brunch in Miami\, Palace South Beach delivers unforgettable vibes\, delicious brunch favorites\, and the ultimate LGBTQ+ celebration. \nIf you’re searching for Drag Brunch Miami\, this is the one everyone talks about.
URL:https://palacesouthbeach.com/event/the-real-drag-brunch-of-miami-friday-drag-brunch-palace-south-beach-5/
ATTACH;FMTTYPE=image/jpeg:https://palacesouthbeach.com/wp-content/uploads/2026/02/Weekly-Flyers-15-Friday-Brunch-1.jpeg
END:VEVENT
BEGIN:VEVENT
DTSTART;TZID=America/Halifax:20260327T190000
DTEND;TZID=America/Halifax:20260327T235900
DTSTAMP:20260424T210939
CREATED:20260220T143720Z
LAST-MODIFIED:20260220T143720Z
UID:23549-1774638000-1774655940@palacesouthbeach.com
SUMMARY:Drag Madness Fridays | Friday Night Drag Show in Miami | Palace South Beach
DESCRIPTION:Friday nights in Miami just hit different at Drag Madness Fridays\, happening every week from 7PM to 12AM at Palace South Beach Miami. \nHosted by the iconic CC Glitzer\, this high-energy Friday night drag show features show-stopping performances by the legendary Palace Divas. From fierce lip-sync battles to glamorous costume reveals and crowd-interaction moments\, Drag Madness Fridays delivers the bold\, unapologetic entertainment that defines Miami Beach nightlife. \nWhether you’re kicking off your weekend in South Beach or looking for the ultimate LGBTQ+ Friday night experience in Miami\, Palace South Beach brings the drama\, the glam\, and the madness every single week. \nStart your weekend the Palace way.
URL:https://palacesouthbeach.com/event/drag-madness-fridays-friday-night-drag-show-in-miami-palace-south-beach-5/
ATTACH;FMTTYPE=image/jpeg:https://palacesouthbeach.com/wp-content/uploads/2026/02/Weekly-Flyers-14-Drag-Madness-Fridays-1.jpeg
END:VEVENT
END:VCALENDAR