BEGIN:VCALENDAR
VERSION:2.0
PRODID:-//Palace Bar Gay | LGBTQ+ Club, Drag Brunch &amp; Shows - South Florida, FL - ECPv6.2.9//NONSGML v1.0//EN
CALSCALE:GREGORIAN
METHOD:PUBLISH
X-WR-CALNAME:Palace Bar Gay | LGBTQ+ Club, Drag Brunch &amp; Shows - South Florida, FL
X-ORIGINAL-URL:https://palacesouthbeach.com
X-WR-CALDESC:Events for Palace Bar Gay | LGBTQ+ Club, Drag Brunch &amp; Shows - South Florida, FL
REFRESH-INTERVAL;VALUE=DURATION:PT1H
X-Robots-Tag:noindex
X-PUBLISHED-TTL:PT1H
BEGIN:VTIMEZONE
TZID:America/Halifax
BEGIN:DAYLIGHT
TZOFFSETFROM:-0400
TZOFFSETTO:-0300
TZNAME:ADT
DTSTART:20260308T060000
END:DAYLIGHT
BEGIN:STANDARD
TZOFFSETFROM:-0300
TZOFFSETTO:-0400
TZNAME:AST
DTSTART:20261101T050000
END:STANDARD
END:VTIMEZONE
BEGIN:VEVENT
DTSTART;TZID=America/Halifax:20260326T120000
DTEND;TZID=America/Halifax:20260327T040000
DTSTAMP:20260424T210939
CREATED:20260325T181243Z
LAST-MODIFIED:20260325T181243Z
UID:23915-1774526400-1774584000@palacesouthbeach.com
SUMMARY:Solar Flare featuring DIEZEL | Miami Music Week 2026 | Palace South Beach Miami
DESCRIPTION:Get ready for an explosive day-to-night experience at Solar Flare\, one of the must-attend events of Miami Music Week 2026\, happening March 26 from 12PM to 4AM at the Palace South Beach Miami Rooftop Pool Bar. \nHeadlining the event is powerhouse DJ DIEZEL\, returning to Miami Beach for a high-energy takeover that will keep the dance floor moving from day into the early morning hours. Known for his intense sound and crowd-moving sets\, DIEZEL delivers an unforgettable performance packed with fresh releases and underground energy. \nInspired by the fiery energy of Aries season\, Solar Flare is more than just a party—it’s a full-scale rooftop experience built on heat\, rhythm\, and nonstop movement. \nTaking place during both Miami Music Week and the Winter Music Conference\, this event draws music lovers\, industry insiders\, and partygoers from around the world to the heart of Miami Beach nightlife. \nThis edition also celebrates Eddie Lopez’s birthday\, adding another layer of energy and celebration to an already unforgettable day and night. \nFrom sun-soaked beats to late-night madness\, Solar Flare at Palace South Beach Miami is one of the hottest rooftop events of Miami Music Week. \n\nEvent Details:\nEvent: Solar FlareDate: March 26\, 2026Time: 12PM – 4AMLocation: Palace Rooftop Pool BarVenue: Palace South BeachAddress: 1052 Ocean Drive\, Miami Beach\, FLHeadliner: DIEZELOccasion: Miami Music Week 2026Special: Eddie Lopez Birthday Celebration
URL:https://palacesouthbeach.com/event/solar-flare-featuring-diezel-miami-music-week-2026-palace-south-beach-miami/
ATTACH;FMTTYPE=image/jpeg:https://palacesouthbeach.com/wp-content/uploads/2026/03/image0_1_cropped.jpeg
END:VEVENT
BEGIN:VEVENT
DTSTART;TZID=America/Halifax:20260326T130000
DTEND;TZID=America/Halifax:20260326T160000
DTSTAMP:20260424T210939
CREATED:20260221T182911Z
LAST-MODIFIED:20260221T182911Z
UID:23640-1774530000-1774540800@palacesouthbeach.com
SUMMARY:Ladies Who Lunch | Thursday Drag Lunch in Miami | Palace South Beach
DESCRIPTION:Make your Thursday unforgettable at Ladies Who Lunch\, happening every Thursday from 1PM to 4PM at Palace South Beach Miami. \nHosted by the Queens of the Palace\, this weekday drag lunch delivers glamour\, energy\, and show-stopping performances in the heart of Miami Beach. Whether you’re enjoying a girls’ getaway\, celebrating a birthday\, or simply looking for a fabulous afternoon in South Beach\, Palace transforms your lunch plans into a full-blown drag experience. \nExpect vibrant performances\, interactive moments\, delicious food\, and cocktails served with a side of sparkle. When it comes to weekday drag shows in Miami\, Palace South Beach sets the standard. \nBecause Thursdays deserve a little extra drama.
URL:https://palacesouthbeach.com/event/ladies-who-lunch-thursday-drag-lunch-in-miami-palace-south-beach-5/
ATTACH;FMTTYPE=image/jpeg:https://palacesouthbeach.com/wp-content/uploads/2026/02/Weekly-Flyers-25-Ladies-Who-Lunch-Wednesday-1.jpeg
END:VEVENT
BEGIN:VEVENT
DTSTART;TZID=America/Halifax:20260326T190000
DTEND;TZID=America/Halifax:20260326T235900
DTSTAMP:20260424T210939
CREATED:20260220T141144Z
LAST-MODIFIED:20260220T141144Z
UID:23529-1774551600-1774569540@palacesouthbeach.com
SUMMARY:Café Con Leche Thursdays | Latin Drag Night in Miami | Palace South Beach
DESCRIPTION:Spice up your week at Café Con Leche Thursdays\, the ultimate Latin drag night in Miami\, happening every Thursday from 7PM to 12AM at Palace South Beach Miami. \nHosted by the fierce and unforgettable Poizon Ivy Lords\, this weekly celebration blends Latin rhythms\, bold performances\, and high-energy glamour from the iconic Palace Divas. From reggaeton to salsa\, throwbacks to today’s hits\, Café Con Leche delivers nonstop entertainment in the heart of Miami Beach. \nExpect powerhouse lip-syncs\, vibrant costumes\, audience interaction\, and the signature Palace energy that has made it a staple in Miami’s LGBTQ+ nightlife scene. Whether you’re a local or visiting South Beach\, Thursday nights belong at Palace. \nBecause nothing hits like drag with a little extra flavor.
URL:https://palacesouthbeach.com/event/cafe-con-leche-thursdays-latin-drag-night-in-miami-palace-south-beach-6/
END:VEVENT
END:VCALENDAR