BEGIN:VCALENDAR
VERSION:2.0
PRODID:-//Palace Bar Gay | LGBTQ+ Club, Drag Brunch &amp; Shows - South Florida, FL - ECPv6.2.9//NONSGML v1.0//EN
CALSCALE:GREGORIAN
METHOD:PUBLISH
X-WR-CALNAME:Palace Bar Gay | LGBTQ+ Club, Drag Brunch &amp; Shows - South Florida, FL
X-ORIGINAL-URL:https://palacesouthbeach.com
X-WR-CALDESC:Events for Palace Bar Gay | LGBTQ+ Club, Drag Brunch &amp; Shows - South Florida, FL
REFRESH-INTERVAL;VALUE=DURATION:PT1H
X-Robots-Tag:noindex
X-PUBLISHED-TTL:PT1H
BEGIN:VTIMEZONE
TZID:America/Halifax
BEGIN:DAYLIGHT
TZOFFSETFROM:-0400
TZOFFSETTO:-0300
TZNAME:ADT
DTSTART:20260308T060000
END:DAYLIGHT
BEGIN:STANDARD
TZOFFSETFROM:-0300
TZOFFSETTO:-0400
TZNAME:AST
DTSTART:20261101T050000
END:STANDARD
TZID:UTC
BEGIN:STANDARD
TZOFFSETFROM:+0000
TZOFFSETTO:+0000
TZNAME:UTC
DTSTART:20260101T000000
END:STANDARD
END:VTIMEZONE
BEGIN:VEVENT
DTSTART;TZID=America/Halifax:20260321T110000
DTEND;TZID=America/Halifax:20260321T160000
DTSTAMP:20260424T210900
CREATED:20260221T173905Z
LAST-MODIFIED:20260221T173905Z
UID:23573-1774090800-1774108800@palacesouthbeach.com
SUMMARY:Bubbly & Beauties Drag Brunch | Saturday Drag Brunch in Miami | Palace South Beach
DESCRIPTION:Pop the cork and strike a pose at Bubbly & Beauties\, the ultimate Saturday drag brunch in Miami\, happening every week at 11AM and 2PM at Palace South Beach Miami. \nHosted by the glamorous Missy Meyaki Lepaige\, this high-energy brunch experience features dazzling performances by the iconic Palace Divas\, delivering fierce looks\, powerhouse lip-syncs\, and nonstop entertainment right on Ocean Drive in Miami Beach. \nExpect bottomless vibes\, brunch favorites\, crowd interaction\, and the vibrant energy that has made Palace South Beach a legendary LGBTQ+ destination for over three decades. Whether you’re celebrating a birthday\, bachelorette\, vacation\, or just your fabulous self\, Saturday brunch at Palace is a Miami must. \nBecause Saturdays deserve sparkle.
URL:https://palacesouthbeach.com/event/bubbly-beauties-drag-brunch-saturday-drag-brunch-in-miami-palace-south-beach-4/
ATTACH;FMTTYPE=image/jpeg:https://palacesouthbeach.com/wp-content/uploads/2026/02/Weekly-Flyers-26-Saturday-Brunch-1.jpeg
END:VEVENT
BEGIN:VEVENT
DTSTART;TZID=UTC:20260321T110000
DTEND;TZID=UTC:20260321T160000
DTSTAMP:20260424T210900
CREATED:20260221T193201Z
LAST-MODIFIED:20260221T193201Z
UID:23680-1774090800-1774108800@palacesouthbeach.com
SUMMARY:The Real Drag Brunch of Miami | Saturday Drag Brunch | Palace South Beach
DESCRIPTION:Searching for the best Saturday drag brunch in Miami? Welcome to The Real Drag Brunch of Miami\, happening every Saturday at 11AM and 2PM at Palace South Beach Miami. \nHosted by the glamorous Missy Meyaki Lepaige\, this iconic brunch experience features high-energy performances by the sensational Palace Divas\, delivering unforgettable lip-syncs\, dazzling costumes\, and nonstop audience interaction in the heart of Miami Beach. \nLocated directly on Ocean Drive\, Palace South Beach is the premier destination for Drag Brunch Miami. Whether you’re celebrating a birthday\, planning a bachelorette party\, hosting a girls’ trip\, or just looking for an unforgettable weekend in South Beach\, this is the brunch everyone is talking about. \nIf you’re Googling “Drag Brunch Miami Saturday\,” you’ve already found the answer.
URL:https://palacesouthbeach.com/event/the-real-drag-brunch-of-miami-saturday-drag-brunch-palace-south-beach-4/
ATTACH;FMTTYPE=image/jpeg:https://palacesouthbeach.com/wp-content/uploads/2026/02/Weekly-Flyers-32-Saturday-Brunch-2.jpeg
END:VEVENT
BEGIN:VEVENT
DTSTART;TZID=America/Halifax:20260321T210000
DTEND;TZID=America/Halifax:20260322T020000
DTSTAMP:20260424T210900
CREATED:20260311T141850Z
LAST-MODIFIED:20260311T141947Z
UID:23784-1774126800-1774144800@palacesouthbeach.com
SUMMARY:Sunset Sapphics | Queer Women Rooftop Pool Party | Palace South Beach Miami
DESCRIPTION:Celebrate community\, connection\, and nightlife at Sunset Sapphics\, a vibrant rooftop pool party for queer women in Miami\, happening March 21 from 9PM to 2AM at the Palace Rooftop Pool Bar at Palace South Beach Miami. \nHosted by The Tates\, this exciting evening brings together queer women and allies for an unforgettable night overlooking the lights of Miami Beach. The party features music by DJ Sammii Blendz\, delivering high-energy beats as guests dance poolside under the Miami night sky. \nWith breathtaking views of Miami Beach\, signature cocktails\, and a lively crowd\, Sunset Sapphics creates a welcoming space where women can celebrate identity\, pride\, and nightlife together. The event is proudly sponsored by Wet For Her\, supporting inclusive spaces for queer communities. \nFor more details or inquiries\, contact contact@teamtates.com. \nWhether you’re visiting South Beach or part of the local LGBTQ+ community\, Sunset Sapphics at Palace South Beach Miami promises an unforgettable rooftop celebration. \n\nEvent Details:\nDate: March 21Time: 9PM – 2AMLocation: Palace Rooftop Pool BarVenue: Palace South BeachAddress: 1052 Ocean Drive\, Miami Beach\, FLHosted by: The TatesMusic: DJ Sammii BlendzSponsor: Wet For HerContact: contact@teamtates.com
URL:https://palacesouthbeach.com/event/sunset-sapphics-queer-women-rooftop-pool-party-palace-south-beach-miami/
CATEGORIES:Pool Party
ATTACH;FMTTYPE=image/jpeg:https://palacesouthbeach.com/wp-content/uploads/2026/03/Sunset-Sapphics-2-1.jpeg
END:VEVENT
END:VCALENDAR