BEGIN:VCALENDAR
VERSION:2.0
PRODID:-//Palace Bar Gay | LGBTQ+ Club, Drag Brunch &amp; Shows - South Florida, FL - ECPv6.2.9//NONSGML v1.0//EN
CALSCALE:GREGORIAN
METHOD:PUBLISH
X-ORIGINAL-URL:https://palacesouthbeach.com
X-WR-CALDESC:Events for Palace Bar Gay | LGBTQ+ Club, Drag Brunch &amp; Shows - South Florida, FL
REFRESH-INTERVAL;VALUE=DURATION:PT1H
X-Robots-Tag:noindex
X-PUBLISHED-TTL:PT1H
BEGIN:VTIMEZONE
TZID:UTC
BEGIN:STANDARD
TZOFFSETFROM:+0000
TZOFFSETTO:+0000
TZNAME:UTC
DTSTART:20260101T000000
END:STANDARD
END:VTIMEZONE
BEGIN:VEVENT
DTSTART;TZID=UTC:20260315T110000
DTEND;TZID=UTC:20260315T160000
DTSTAMP:20260424T225147
CREATED:20260221T194738Z
LAST-MODIFIED:20260221T194738Z
UID:23700-1773572400-1773590400@palacesouthbeach.com
SUMMARY:The Real Drag Brunch of Miami | Sunday Drag Brunch | Palace South Beach
DESCRIPTION:End your weekend the fabulous way at The Real Drag Brunch of Miami\, happening every Sunday at 11AM and 2PM at Palace South Beach Miami. \nHosted by the legendary Tiffany Fantasia\, this high-energy Sunday drag brunch features unforgettable performances by the iconic Palace Divas\, serving glamour\, comedy\, fierce lip-sync battles\, and nonstop entertainment in the heart of Miami Beach. \nLocated directly on Ocean Drive\, Palace South Beach is the ultimate destination for Drag Brunch Miami. Whether you’re wrapping up a girls’ trip\, celebrating a birthday\, planning a bachelorette party\, or simply looking for the best Sunday brunch in Miami with live entertainment\, this is where the weekend reaches its grand finale. \nIf you’re searching for Sunday Drag Brunch in Miami\, you’ve found the real one.
URL:https://palacesouthbeach.com/event/the-real-drag-brunch-of-miami-sunday-drag-brunch-palace-south-beach-3/
ATTACH;FMTTYPE=image/jpeg:https://palacesouthbeach.com/wp-content/uploads/2026/02/Weekly-Flyers-31-Sunday-Brunch-1.jpeg
END:VEVENT
END:VCALENDAR