BEGIN:VCALENDAR
VERSION:2.0
PRODID:-//Palace Bar Gay | LGBTQ+ Club, Drag Brunch &amp; Shows - South Florida, FL - ECPv6.2.9//NONSGML v1.0//EN
CALSCALE:GREGORIAN
METHOD:PUBLISH
X-WR-CALNAME:Palace Bar Gay | LGBTQ+ Club, Drag Brunch &amp; Shows - South Florida, FL
X-ORIGINAL-URL:https://palacesouthbeach.com
X-WR-CALDESC:Events for Palace Bar Gay | LGBTQ+ Club, Drag Brunch &amp; Shows - South Florida, FL
REFRESH-INTERVAL;VALUE=DURATION:PT1H
X-Robots-Tag:noindex
X-PUBLISHED-TTL:PT1H
BEGIN:VTIMEZONE
TZID:America/New_York
BEGIN:DAYLIGHT
TZOFFSETFROM:-0500
TZOFFSETTO:-0400
TZNAME:EDT
DTSTART:20260308T070000
END:DAYLIGHT
BEGIN:STANDARD
TZOFFSETFROM:-0400
TZOFFSETTO:-0500
TZNAME:EST
DTSTART:20261101T060000
END:STANDARD
END:VTIMEZONE
BEGIN:VEVENT
DTSTART;TZID=America/New_York:20260110T190000
DTEND;TZID=America/New_York:20260111T000000
DTSTAMP:20260425T003258
CREATED:20260109T143411Z
LAST-MODIFIED:20260109T143411Z
UID:23384-1768071600-1768089600@palacesouthbeach.com
SUMMARY:Tiffany Fantasia’s Birthday Celebration | January 10 | Palace South Beach Miami
DESCRIPTION:Get ready for a legendary night of glam\, vocals\, and Capricorn energy as we celebrate the birthday of one of Florida’s most iconic queens—Tiffany Fantasia—on Friday\, January 10 from 7PM to 12AM during the Palace dinner show. \nKnown across the state for her powerhouse presence\, sharp wit\, and unmatched charisma\, Tiffany Fantasia is a true drag institution. For her birthday bash\, she’s inviting some of her fiercest sisters to the stage for an unforgettable night of performances\, laughter\, and love—all under the stars on the Palace rooftop. \nIt’s Capricorn season\, and that means bold looks\, commanding performances\, and unapologetic brilliance. Whether you’re a Tiffany stan or new to her magic\, this is a must-see celebration of South Beach drag royalty.
URL:https://palacesouthbeach.com/event/tiffany-fantasias-birthday-celebration-january-10-palace-south-beach-miami/
CATEGORIES:Guest Performance
ATTACH;FMTTYPE=image/jpeg:https://palacesouthbeach.com/wp-content/uploads/2026/01/Birthday-celebrations-1-2-Akasha-OHara-Lords-1.jpeg
END:VEVENT
END:VCALENDAR